BEGIN:VCALENDAR
VERSION:2.0
PRODID:-//Paddy Whelan`s - ECPv4.0.5//NONSGML v1.0//EN
CALSCALE:GREGORIAN
METHOD:PUBLISH
X-WR-CALNAME:Paddy Whelan`s
X-ORIGINAL-URL:https://www.paddywhelans.com
X-WR-CALDESC:Events for Paddy Whelan`s
BEGIN:VEVENT
DTSTART;TZID="UTC+3":20210812T210000
DTEND;TZID="UTC+3":20210812T230000
DTSTAMP:20260424T191622
CREATED:20210809T082415
LAST-MODIFIED:20210809T082415
UID:10375-1628802000-1628809200@www.paddywhelans.com
SUMMARY:Riga FC vs Hibernians
DESCRIPTION:
URL:https://www.paddywhelans.com/event/riga-fc-vs-hibernians-2/
CATEGORIES:UEFA Europa League
END:VEVENT
END:VCALENDAR