BEGIN:VCALENDAR
VERSION:2.0
PRODID:-//Paddy Whelan`s - ECPv4.0.5//NONSGML v1.0//EN
CALSCALE:GREGORIAN
METHOD:PUBLISH
X-WR-CALNAME:Paddy Whelan`s
X-ORIGINAL-URL:https://www.paddywhelans.com
X-WR-CALDESC:Events for Paddy Whelan`s
BEGIN:VEVENT
DTSTART;TZID="UTC+3":20210729T210000
DTEND;TZID="UTC+3":20210729T230000
DTSTAMP:20260425T190151
CREATED:20210725T184756
LAST-MODIFIED:20210725T184756
UID:10263-1627592400-1627599600@www.paddywhelans.com
SUMMARY:Shkendija vs Riga FC
DESCRIPTION:
URL:https://www.paddywhelans.com/event/shkendija-vs-riga-fc/
CATEGORIES:UEFA Europa League
END:VEVENT
END:VCALENDAR