BEGIN:VCALENDAR
VERSION:2.0
PRODID:-//Paddy Whelan`s - ECPv4.0.5//NONSGML v1.0//EN
CALSCALE:GREGORIAN
METHOD:PUBLISH
X-WR-CALNAME:Paddy Whelan`s
X-ORIGINAL-URL:https://www.paddywhelans.com
X-WR-CALDESC:Events for Paddy Whelan`s
BEGIN:VEVENT
DTSTART;TZID="UTC+3":20220921T214500
DTEND;TZID="UTC+3":20220921T230000
DTSTAMP:20260425T172907
CREATED:20220916T154049
LAST-MODIFIED:20220916T154049
UID:17875-1663796700-1663801200@www.paddywhelans.com
SUMMARY:Scotland – Ukraine
DESCRIPTION:
URL:https://www.paddywhelans.com/event/scotland-ukraine/
CATEGORIES:Continental Europe Football
END:VEVENT
END:VCALENDAR