BEGIN:VCALENDAR
VERSION:2.0
PRODID:-//Paddy Whelan`s - ECPv4.0.5//NONSGML v1.0//EN
CALSCALE:GREGORIAN
METHOD:PUBLISH
X-WR-CALNAME:Paddy Whelan`s
X-ORIGINAL-URL:https://www.paddywhelans.com
X-WR-CALDESC:Events for Paddy Whelan`s
BEGIN:VEVENT
DTSTART;TZID="UTC+3":20220912T163000
DTEND;TZID="UTC+3":20220912T180000
DTSTAMP:20260425T012801
CREATED:20220909T151459
LAST-MODIFIED:20220909T151459
UID:17758-1663000200-1663005600@www.paddywhelans.com
SUMMARY:RFS – Spartaks Jūrmala
DESCRIPTION:
URL:https://www.paddywhelans.com/event/rfs-spartaks-jurmala/
CATEGORIES:Continental Europe Football
END:VEVENT
BEGIN:VEVENT
DTSTART;TZID="UTC+3":20220912T193000
DTEND;TZID="UTC+3":20220912T210000
DTSTAMP:20260425T012801
CREATED:20220911T195517
LAST-MODIFIED:20220911T195536
UID:17866-1663011000-1663016400@www.paddywhelans.com
SUMMARY:Ingolstadt – Bayern Munchen
DESCRIPTION:
URL:https://www.paddywhelans.com/event/ingolstadt-bayern-munchen/
CATEGORIES:Continental Europe Football
END:VEVENT
BEGIN:VEVENT
DTSTART;TZID="UTC+3":20220912T214500
DTEND;TZID="UTC+3":20220912T230000
DTSTAMP:20260425T012801
CREATED:20220909T151557
LAST-MODIFIED:20220909T151557
UID:17759-1663019100-1663023600@www.paddywhelans.com
SUMMARY:Empoli – Roma
DESCRIPTION:
URL:https://www.paddywhelans.com/event/empoli-roma/
CATEGORIES:Continental Europe Football
END:VEVENT
END:VCALENDAR