BEGIN:VCALENDAR
VERSION:2.0
PRODID:-//Paddy Whelan`s - ECPv4.0.5//NONSGML v1.0//EN
CALSCALE:GREGORIAN
METHOD:PUBLISH
X-WR-CALNAME:Paddy Whelan`s
X-ORIGINAL-URL:https://www.paddywhelans.com
X-WR-CALDESC:Events for Paddy Whelan`s
BEGIN:VEVENT
DTSTART;TZID="UTC+3":20220911T140000
DTEND;TZID="UTC+3":20220911T160000
DTSTAMP:20260424T233130
CREATED:20220903T183241
LAST-MODIFIED:20220903T183241
UID:17752-1662904800-1662912000@www.paddywhelans.com
SUMMARY:Valmiera – Riga
DESCRIPTION:
URL:https://www.paddywhelans.com/event/valmiera-riga/
CATEGORIES:Continental Europe Football
END:VEVENT
BEGIN:VEVENT
DTSTART;TZID="UTC+3":20220911T160000
DTEND;TZID="UTC+3":20220911T180000
DTSTAMP:20260424T233130
CREATED:20220903T182343
LAST-MODIFIED:20220903T182343
UID:17746-1662912000-1662919200@www.paddywhelans.com
SUMMARY:Bologna – Fiorentina
DESCRIPTION:
URL:https://www.paddywhelans.com/event/bologna-fiorentina/
CATEGORIES:Continental Europe Football
END:VEVENT
BEGIN:VEVENT
DTSTART;TZID="UTC+3":20220911T160000
DTEND;TZID="UTC+3":20220911T180000
DTSTAMP:20260424T233130
CREATED:20220903T183321
LAST-MODIFIED:20220903T183321
UID:17754-1662912000-1662919200@www.paddywhelans.com
SUMMARY:Super Nova – Liepāja
DESCRIPTION:
URL:https://www.paddywhelans.com/event/super-nova-liepaja/
CATEGORIES:Continental Europe Football
END:VEVENT
BEGIN:VEVENT
DTSTART;TZID="UTC+3":20220911T162000
DTEND;TZID="UTC+3":20220911T180000
DTSTAMP:20260424T233130
CREATED:20220903T182301
LAST-MODIFIED:20220903T182301
UID:17744-1662913200-1662919200@www.paddywhelans.com
SUMMARY:Koln - Union Berlin
DESCRIPTION:
URL:https://www.paddywhelans.com/event/koln-union-berlin/
CATEGORIES:Continental Europe Football
END:VEVENT
BEGIN:VEVENT
DTSTART;TZID="UTC+3":20220911T183000
DTEND;TZID="UTC+3":20220911T200000
DTSTAMP:20260424T233130
CREATED:20220903T182321
LAST-MODIFIED:20220903T182321
UID:17745-1662921000-1662926400@www.paddywhelans.com
SUMMARY:Freiburg – Monchengladbach
DESCRIPTION:
URL:https://www.paddywhelans.com/event/freiburg-monchengladbach/
CATEGORIES:Continental Europe Football
END:VEVENT
BEGIN:VEVENT
DTSTART;TZID="UTC+3":20220911T190000
DTEND;TZID="UTC+3":20220911T210000
DTSTAMP:20260424T233130
CREATED:20220903T182935
LAST-MODIFIED:20220903T182935
UID:17747-1662922800-1662930000@www.paddywhelans.com
SUMMARY:Lazio – Verona
DESCRIPTION:
URL:https://www.paddywhelans.com/event/lazio-verona/
CATEGORIES:Continental Europe Football
END:VEVENT
BEGIN:VEVENT
DTSTART;TZID="UTC+3":20220911T220000
DTEND;TZID="UTC+3":20220911T230000
DTSTAMP:20260424T233130
CREATED:20220903T182956
LAST-MODIFIED:20220903T182956
UID:17748-1662933600-1662937200@www.paddywhelans.com
SUMMARY:Juventus – Salernitana
DESCRIPTION:
URL:https://www.paddywhelans.com/event/juventus-salernitana/
CATEGORIES:Continental Europe Football
END:VEVENT
BEGIN:VEVENT
DTSTART;TZID="UTC+3":20220911T220000
DTEND;TZID="UTC+3":20220911T230000
DTSTAMP:20260424T233130
CREATED:20220903T183035
LAST-MODIFIED:20220903T183035
UID:17749-1662933600-1662937200@www.paddywhelans.com
SUMMARY:Monaco – Lyon
DESCRIPTION:
URL:https://www.paddywhelans.com/event/monaco-lyon/
CATEGORIES:Continental Europe Football
END:VEVENT
END:VCALENDAR