BEGIN:VCALENDAR
VERSION:2.0
PRODID:-//Paddy Whelan`s - ECPv4.0.5//NONSGML v1.0//EN
CALSCALE:GREGORIAN
METHOD:PUBLISH
X-WR-CALNAME:Paddy Whelan`s
X-ORIGINAL-URL:https://www.paddywhelans.com
X-WR-CALDESC:Events for Paddy Whelan`s
BEGIN:VEVENT
DTSTART;TZID="UTC+3":20220903T150000
DTEND;TZID="UTC+3":20220903T170000
DTSTAMP:20260425T033240
CREATED:20220828T145401
LAST-MODIFIED:20220828T145401
UID:17563-1662217200-1662224400@www.paddywhelans.com
SUMMARY:Spartaks Jūrmala – Tukums 2000
DESCRIPTION:
URL:https://www.paddywhelans.com/event/spartaks-jurmala-tukums-2000/
CATEGORIES:Continental Europe Football
END:VEVENT
BEGIN:VEVENT
DTSTART;TZID="UTC+3":20220903T162000
DTEND;TZID="UTC+3":20220903T180000
DTSTAMP:20260425T033240
CREATED:20220828T143015
LAST-MODIFIED:20220828T143015
UID:17551-1662222000-1662228000@www.paddywhelans.com
SUMMARY:Stuttgart – Schalke 04
DESCRIPTION:
URL:https://www.paddywhelans.com/event/stuttgart-schalke-04/
CATEGORIES:Continental Europe Football
END:VEVENT
BEGIN:VEVENT
DTSTART;TZID="UTC+3":20220903T162000
DTEND;TZID="UTC+3":20220903T180000
DTSTAMP:20260425T033240
CREATED:20220828T143048
LAST-MODIFIED:20220828T143048
UID:17552-1662222000-1662228000@www.paddywhelans.com
SUMMARY:Bochum – Werder
DESCRIPTION:
URL:https://www.paddywhelans.com/event/bochum-werder/
CATEGORIES:Continental Europe Football
END:VEVENT
BEGIN:VEVENT
DTSTART;TZID="UTC+3":20220903T162000
DTEND;TZID="UTC+3":20220903T180000
DTSTAMP:20260425T033240
CREATED:20220828T143306
LAST-MODIFIED:20220828T143306
UID:17553-1662222000-1662228000@www.paddywhelans.com
SUMMARY:Wolfsburg – Koln
DESCRIPTION:
URL:https://www.paddywhelans.com/event/wolfsburg-koln/
CATEGORIES:Continental Europe Football
END:VEVENT
BEGIN:VEVENT
DTSTART;TZID="UTC+3":20220903T162000
DTEND;TZID="UTC+3":20220903T180000
DTSTAMP:20260425T033240
CREATED:20220828T143400
LAST-MODIFIED:20220828T143400
UID:17554-1662222000-1662228000@www.paddywhelans.com
SUMMARY:Union Berlin – Bayern
DESCRIPTION:
URL:https://www.paddywhelans.com/event/union-berlin-bayern/
CATEGORIES:Continental Europe Football
END:VEVENT
BEGIN:VEVENT
DTSTART;TZID="UTC+3":20220903T162000
DTEND;TZID="UTC+3":20220903T180000
DTSTAMP:20260425T033240
CREATED:20220828T143657
LAST-MODIFIED:20220828T143657
UID:17555-1662222000-1662228000@www.paddywhelans.com
SUMMARY:Bayer 04 – Freiburg
DESCRIPTION:
URL:https://www.paddywhelans.com/event/bayer-04-freiburg/
CATEGORIES:Continental Europe Football
END:VEVENT
BEGIN:VEVENT
DTSTART;TZID="UTC+3":20220903T190000
DTEND;TZID="UTC+3":20220903T210000
DTSTAMP:20260425T033240
CREATED:20220828T145056
LAST-MODIFIED:20220828T145056
UID:17558-1662231600-1662238800@www.paddywhelans.com
SUMMARY:Milan – Inter
DESCRIPTION:
URL:https://www.paddywhelans.com/event/milan-inter/
CATEGORIES:Continental Europe Football
END:VEVENT
BEGIN:VEVENT
DTSTART;TZID="UTC+3":20220903T193000
DTEND;TZID="UTC+3":20220903T220000
DTSTAMP:20260425T033240
CREATED:20220828T143822
LAST-MODIFIED:20220828T143822
UID:17556-1662233400-1662242400@www.paddywhelans.com
SUMMARY:Frankfurt – Leipzig
DESCRIPTION:
URL:https://www.paddywhelans.com/event/frankfurt-leipzig/
CATEGORIES:Continental Europe Football
END:VEVENT
END:VCALENDAR