BEGIN:VCALENDAR
VERSION:2.0
PRODID:-//Paddy Whelan`s - ECPv4.0.5//NONSGML v1.0//EN
CALSCALE:GREGORIAN
METHOD:PUBLISH
X-WR-CALNAME:Paddy Whelan`s
X-ORIGINAL-URL:https://www.paddywhelans.com
X-WR-CALDESC:Events for Paddy Whelan`s
BEGIN:VEVENT
DTSTART;TZID="UTC+3":20220822T193000
DTEND;TZID="UTC+3":20220822T220000
DTSTAMP:20260426T004240
CREATED:20220820T140741
LAST-MODIFIED:20220820T140741
UID:17403-1661196600-1661205600@www.paddywhelans.com
SUMMARY:Roma – Cremonese
DESCRIPTION:
URL:https://www.paddywhelans.com/event/roma-cremonese/
CATEGORIES:Continental Europe Football
END:VEVENT
BEGIN:VEVENT
DTSTART;TZID="UTC+3":20220822T214000
DTEND;TZID="UTC+3":20220822T230000
DTSTAMP:20260426T004240
CREATED:20220820T140805
LAST-MODIFIED:20220820T140805
UID:17404-1661204400-1661209200@www.paddywhelans.com
SUMMARY:Sampdoria – Juventus
DESCRIPTION:
URL:https://www.paddywhelans.com/event/sampdoria-juventus/
CATEGORIES:Continental Europe Football
END:VEVENT
END:VCALENDAR