BEGIN:VCALENDAR
VERSION:2.0
PRODID:-//Paddy Whelan`s - ECPv4.0.5//NONSGML v1.0//EN
CALSCALE:GREGORIAN
METHOD:PUBLISH
X-WR-CALNAME:Paddy Whelan`s
X-ORIGINAL-URL:https://www.paddywhelans.com
X-WR-CALDESC:Events for Paddy Whelan`s
BEGIN:VEVENT
DTSTART;TZID="UTC+3":20220821T150000
DTEND;TZID="UTC+3":20220821T180000
DTSTAMP:20260426T025824
CREATED:20220814T171909
LAST-MODIFIED:20220814T171909
UID:17396-1661094000-1661104800@www.paddywhelans.com
SUMMARY:Auda – Riga
DESCRIPTION:
URL:https://www.paddywhelans.com/event/auda-riga/
CATEGORIES:Continental Europe Football
END:VEVENT
BEGIN:VEVENT
DTSTART;TZID="UTC+3":20220821T162000
DTEND;TZID="UTC+3":20220821T180000
DTSTAMP:20260426T025824
CREATED:20220814T171509
LAST-MODIFIED:20220814T171509
UID:17388-1661098800-1661104800@www.paddywhelans.com
SUMMARY:Frankfutt – Koln
DESCRIPTION:
URL:https://www.paddywhelans.com/event/frankfutt-koln/
CATEGORIES:Continental Europe Football
END:VEVENT
BEGIN:VEVENT
DTSTART;TZID="UTC+3":20220821T173000
DTEND;TZID="UTC+3":20220821T190000
DTSTAMP:20260426T025824
CREATED:20220814T171943
LAST-MODIFIED:20220814T171943
UID:17397-1661103000-1661108400@www.paddywhelans.com
SUMMARY:RFS – Valmiera
DESCRIPTION:
URL:https://www.paddywhelans.com/event/rfs-valmiera/
CATEGORIES:Continental Europe Football
END:VEVENT
BEGIN:VEVENT
DTSTART;TZID="UTC+3":20220821T182500
DTEND;TZID="UTC+3":20220821T210000
DTSTAMP:20260426T025824
CREATED:20220814T171546
LAST-MODIFIED:20220814T171546
UID:17390-1661106300-1661115600@www.paddywhelans.com
SUMMARY:Bochum – Bayern Munchen
DESCRIPTION:
URL:https://www.paddywhelans.com/event/bochum-bayern-munchen/
CATEGORIES:Continental Europe Football
END:VEVENT
BEGIN:VEVENT
DTSTART;TZID="UTC+3":20220821T192500
DTEND;TZID="UTC+3":20220821T220000
DTSTAMP:20260426T025824
CREATED:20220814T171638
LAST-MODIFIED:20220814T171638
UID:17391-1661109900-1661119200@www.paddywhelans.com
SUMMARY:Atalanta – Milan
DESCRIPTION:
URL:https://www.paddywhelans.com/event/atalanta-milan/
CATEGORIES:Continental Europe Football
END:VEVENT
BEGIN:VEVENT
DTSTART;TZID="UTC+3":20220821T214500
DTEND;TZID="UTC+3":20220821T230000
DTSTAMP:20260426T025824
CREATED:20220814T171710
LAST-MODIFIED:20220814T171710
UID:17392-1661118300-1661122800@www.paddywhelans.com
SUMMARY:Lille – PSG
DESCRIPTION:
URL:https://www.paddywhelans.com/event/lille-psg/
CATEGORIES:Continental Europe Football
END:VEVENT
END:VCALENDAR