BEGIN:VCALENDAR
VERSION:2.0
PRODID:-//Paddy Whelan`s - ECPv4.0.5//NONSGML v1.0//EN
CALSCALE:GREGORIAN
METHOD:PUBLISH
X-WR-CALNAME:Paddy Whelan`s
X-ORIGINAL-URL:https://www.paddywhelans.com
X-WR-CALDESC:Events for Paddy Whelan`s
BEGIN:VEVENT
DTSTART;TZID="UTC+3":20190211T192500
DTEND;TZID="UTC+3":20190211T192500
DTSTAMP:20260420T090449
CREATED:20190211T150632
LAST-MODIFIED:20190211T150632
UID:6089-1549913100-1549913100@www.paddywhelans.com
SUMMARY:Ice-hockey – KHL: Dinamo Riga VS Jokerit Helsinki
DESCRIPTION:
URL:https://www.paddywhelans.com/event/ice-hockey-khl-dinamo-riga-vs-jokerit-helsinki-3/
CATEGORIES:Ice Hockey
END:VEVENT
BEGIN:VEVENT
DTSTART;TZID="UTC+3":20190211T215000
DTEND;TZID="UTC+3":20190211T215000
DTSTAMP:20260420T090449
CREATED:20190211T150504
LAST-MODIFIED:20190211T150504
UID:6087-1549921800-1549921800@www.paddywhelans.com
SUMMARY:Football – English Premier League: Wolverhampton Wanderers VS Newcastle United FC
DESCRIPTION:
URL:https://www.paddywhelans.com/event/football-english-premier-league-wolverhampton-wanderers-vs-newcastle-united-fc/
CATEGORIES:English Premier Leaugue
END:VEVENT
BEGIN:VEVENT
DTSTART;TZID="UTC+3":20190211T215500
DTEND;TZID="UTC+3":20190211T215500
DTSTAMP:20260420T090449
CREATED:20190211T150540
LAST-MODIFIED:20190211T150540
UID:6088-1549922100-1549922100@www.paddywhelans.com
SUMMARY:Football – La Liga: Alaves VS Levante
DESCRIPTION:
URL:https://www.paddywhelans.com/event/football-la-liga-alaves-vs-levante/
CATEGORIES:La Liga
END:VEVENT
END:VCALENDAR