BEGIN:VCALENDAR
VERSION:2.0
PRODID:-//Paddy Whelan`s - ECPv4.0.5//NONSGML v1.0//EN
CALSCALE:GREGORIAN
METHOD:PUBLISH
X-WR-CALNAME:Paddy Whelan`s
X-ORIGINAL-URL:https://www.paddywhelans.com
X-WR-CALDESC:Events for Paddy Whelan`s
BEGIN:VEVENT
DTSTART;TZID="UTC+3":20190207T191500
DTEND;TZID="UTC+3":20190207T191500
DTSTAMP:20260420T151353
CREATED:20190202T163414
LAST-MODIFIED:20190202T163414
UID:6065-1549566900-1549566900@www.paddywhelans.com
SUMMARY:Basketball – Turkish Airlines Euroleague: Anadolu Istanbul VS Herbalife Gran Canaria
DESCRIPTION:
URL:https://www.paddywhelans.com/event/basketball-turkish-airlines-euroleague-anadolu-istanbul-vs-herbalife-gran-canaria/
CATEGORIES:Basketball
END:VEVENT
BEGIN:VEVENT
DTSTART;TZID="UTC+3":20190207T205000
DTEND;TZID="UTC+3":20190207T205000
DTSTAMP:20260420T151353
CREATED:20190202T163449
LAST-MODIFIED:20190202T163449
UID:6066-1549572600-1549572600@www.paddywhelans.com
SUMMARY:Basketball – Turkish Airlines Euroleague: Maccabi Fox Tel Aviv VS Olympiacos Piraeus
DESCRIPTION:
URL:https://www.paddywhelans.com/event/basketball-turkish-airlines-euroleague-maccabi-fox-tel-aviv-vs-olympiacos-piraeus/
CATEGORIES:Basketball
END:VEVENT
BEGIN:VEVENT
DTSTART;TZID="UTC+3":20190207T212500
DTEND;TZID="UTC+3":20190207T212500
DTSTAMP:20260420T151353
CREATED:20190202T163340
LAST-MODIFIED:20190202T163340
UID:6064-1549574700-1549574700@www.paddywhelans.com
SUMMARY:Football – Serie A: Lazio VS Empoli
DESCRIPTION:
URL:https://www.paddywhelans.com/event/football-serie-a-lazio-vs-empoli/
CATEGORIES:Continental Europe Football
END:VEVENT
BEGIN:VEVENT
DTSTART;TZID="UTC+3":20190207T214500
DTEND;TZID="UTC+3":20190207T214500
DTSTAMP:20260420T151353
CREATED:20190202T163522
LAST-MODIFIED:20190202T163522
UID:6067-1549575900-1549575900@www.paddywhelans.com
SUMMARY:Basketball – Turkish Airlines Euroleague: Barcelona Lassa VS Zalgiris Kaunas
DESCRIPTION:
URL:https://www.paddywhelans.com/event/basketball-turkish-airlines-euroleague-barcelona-lassa-vs-zalgiris-kaunas/
CATEGORIES:Basketball
END:VEVENT
END:VCALENDAR