BEGIN:VCALENDAR
VERSION:2.0
PRODID:-//Paddy Whelan`s - ECPv4.0.5//NONSGML v1.0//EN
CALSCALE:GREGORIAN
METHOD:PUBLISH
X-WR-CALNAME:Paddy Whelan`s
X-ORIGINAL-URL:https://www.paddywhelans.com
X-WR-CALDESC:Events for Paddy Whelan`s
BEGIN:VEVENT
DTSTART;TZID="UTC+3":20190206T192500
DTEND;TZID="UTC+3":20190206T192500
DTSTAMP:20260420T165111
CREATED:20190202T163155
LAST-MODIFIED:20190202T163155
UID:6061-1549481100-1549481100@www.paddywhelans.com
SUMMARY:Football – DFB Cup: RB Leipzig VS VfL Wolfsburg
DESCRIPTION:
URL:https://www.paddywhelans.com/event/football-dfb-cup-rb-leipzig-vs-vfl-wolfsburg/
CATEGORIES:Continental Europe Football
END:VEVENT
BEGIN:VEVENT
DTSTART;TZID="UTC+3":20190206T214000
DTEND;TZID="UTC+3":20190206T214000
DTSTAMP:20260420T165111
CREATED:20190202T163234
LAST-MODIFIED:20190202T163234
UID:6062-1549489200-1549489200@www.paddywhelans.com
SUMMARY:Football – DFB Cup: FC Schalke 04 VS Fortuna Düsseldorf
DESCRIPTION:
URL:https://www.paddywhelans.com/event/football-dfb-cup-fc-schalke-04-vs-fortuna-dusseldorf/
CATEGORIES:Continental Europe Football
END:VEVENT
BEGIN:VEVENT
DTSTART;TZID="UTC+3":20190206T214000
DTEND;TZID="UTC+3":20190206T214000
DTSTAMP:20260420T165111
CREATED:20190202T163306
LAST-MODIFIED:20190202T163306
UID:6063-1549489200-1549489200@www.paddywhelans.com
SUMMARY:Football – DFB Cup: Hertha BSC VS Bayern Munich
DESCRIPTION:
URL:https://www.paddywhelans.com/event/football-dfb-cup-hertha-bsc-vs-bayern-munich/
CATEGORIES:Continental Europe Football
END:VEVENT
END:VCALENDAR