BEGIN:VCALENDAR
VERSION:2.0
PRODID:-//Paddy Whelan`s - ECPv4.0.5//NONSGML v1.0//EN
CALSCALE:GREGORIAN
METHOD:PUBLISH
X-WR-CALNAME:Paddy Whelan`s
X-ORIGINAL-URL:https://www.paddywhelans.com
X-WR-CALDESC:Events for Paddy Whelan`s
BEGIN:VEVENT
DTSTART;TZID="UTC+3":20190205T192500
DTEND;TZID="UTC+3":20190205T192500
DTSTAMP:20260420T183712
CREATED:20190202T163010
LAST-MODIFIED:20190202T163010
UID:6058-1549394700-1549394700@www.paddywhelans.com
SUMMARY:Football – DFB Cup: FC Heidenheim 1846 VS Bayer 04 Leverkusen
DESCRIPTION:
URL:https://www.paddywhelans.com/event/football-dfb-cup-fc-heidenheim-1846-vs-bayer-04-leverkusen/
CATEGORIES:Continental Europe Football
END:VEVENT
BEGIN:VEVENT
DTSTART;TZID="UTC+3":20190205T195500
DTEND;TZID="UTC+3":20190205T195500
DTSTAMP:20260420T183712
CREATED:20190202T163117
LAST-MODIFIED:20190202T163117
UID:6060-1549396500-1549396500@www.paddywhelans.com
SUMMARY:Football – Ligue 1: Marseille VS Bordeaux
DESCRIPTION:
URL:https://www.paddywhelans.com/event/football-ligue-1-marseille-vs-bordeaux/
CATEGORIES:Continental Europe Football
END:VEVENT
BEGIN:VEVENT
DTSTART;TZID="UTC+3":20190205T214000
DTEND;TZID="UTC+3":20190205T214000
DTSTAMP:20260420T183712
CREATED:20190202T163046
LAST-MODIFIED:20190202T163046
UID:6059-1549402800-1549402800@www.paddywhelans.com
SUMMARY:Football – DFB Cup: Borussia Dortmund VS Werder Bremen
DESCRIPTION:
URL:https://www.paddywhelans.com/event/football-dfb-cup-borussia-dortmund-vs-werder-bremen/
CATEGORIES:Continental Europe Football
END:VEVENT
END:VCALENDAR