BEGIN:VCALENDAR
VERSION:2.0
PRODID:-//Paddy Whelan`s - ECPv4.0.5//NONSGML v1.0//EN
CALSCALE:GREGORIAN
METHOD:PUBLISH
X-WR-CALNAME:Paddy Whelan`s
X-ORIGINAL-URL:https://www.paddywhelans.com
X-WR-CALDESC:Events for Paddy Whelan`s
BEGIN:VEVENT
DTSTART;TZID="UTC+3":20190204T192000
DTEND;TZID="UTC+3":20190204T192000
DTSTAMP:20260420T201606
CREATED:20190202T162924
LAST-MODIFIED:20190202T162924
UID:6057-1549308000-1549308000@www.paddywhelans.com
SUMMARY:Ice-hockey – KHL: Slovan Bratislava VS Dinamo Riga
DESCRIPTION:
URL:https://www.paddywhelans.com/event/ice-hockey-khl-slovan-bratislava-vs-dinamo-riga-2/
CATEGORIES:Ice Hockey
END:VEVENT
BEGIN:VEVENT
DTSTART;TZID="UTC+3":20190204T195500
DTEND;TZID="UTC+3":20190204T195500
DTSTAMP:20260420T201606
CREATED:20190202T162812
LAST-MODIFIED:20190202T162812
UID:6055-1549310100-1549310100@www.paddywhelans.com
SUMMARY:Football – Serie A: Frosinone VS Lazio
DESCRIPTION:
URL:https://www.paddywhelans.com/event/football-serie-a-frosinone-vs-lazio/
CATEGORIES:Continental Europe Football
END:VEVENT
BEGIN:VEVENT
DTSTART;TZID="UTC+3":20190204T215000
DTEND;TZID="UTC+3":20190204T215000
DTSTAMP:20260420T201606
CREATED:20190202T162737
LAST-MODIFIED:20190202T162737
UID:6054-1549317000-1549317000@www.paddywhelans.com
SUMMARY:Football – English Premier League: West Ham United VS Liverpool
DESCRIPTION:
URL:https://www.paddywhelans.com/event/football-english-premier-league-west-ham-united-vs-liverpool/
CATEGORIES:English Premier Leaugue
END:VEVENT
BEGIN:VEVENT
DTSTART;TZID="UTC+3":20190204T215500
DTEND;TZID="UTC+3":20190204T215500
DTSTAMP:20260420T201606
CREATED:20190202T162848
LAST-MODIFIED:20190202T162848
UID:6056-1549317300-1549317300@www.paddywhelans.com
SUMMARY:Football – La Liga: Rayo Vallecano VS Leganes
DESCRIPTION:
URL:https://www.paddywhelans.com/event/football-la-liga-rayo-vallecano-vs-leganes/
CATEGORIES:La Liga
END:VEVENT
END:VCALENDAR