BEGIN:VCALENDAR
VERSION:2.0
PRODID:-//Paddy Whelan`s - ECPv4.0.5//NONSGML v1.0//EN
CALSCALE:GREGORIAN
METHOD:PUBLISH
X-WR-CALNAME:Paddy Whelan`s
X-ORIGINAL-URL:https://www.paddywhelans.com
X-WR-CALDESC:Events for Paddy Whelan`s
BEGIN:VEVENT
DTSTART;TZID="UTC+3":20190203T155500
DTEND;TZID="UTC+3":20190203T155500
DTSTAMP:20260420T215751
CREATED:20190127T161854
LAST-MODIFIED:20190127T161854
UID:6048-1549209300-1549209300@www.paddywhelans.com
SUMMARY:Football – English Premier League: Leicester City VS Manchester United
DESCRIPTION:
URL:https://www.paddywhelans.com/event/football-english-premier-league-leicester-city-vs-manchester-united/
CATEGORIES:English Premier Leaugue
END:VEVENT
BEGIN:VEVENT
DTSTART;TZID="UTC+3":20190203T171000
DTEND;TZID="UTC+3":20190203T171000
DTSTAMP:20260420T215751
CREATED:20190127T162007
LAST-MODIFIED:20190127T162007
UID:6050-1549213800-1549213800@www.paddywhelans.com
SUMMARY:Football – La Liga: Real Betis VS Atletico Madrid
DESCRIPTION:
URL:https://www.paddywhelans.com/event/football-la-liga-real-betis-vs-atletico-madrid/
CATEGORIES:La Liga
END:VEVENT
BEGIN:VEVENT
DTSTART;TZID="UTC+3":20190203T182000
DTEND;TZID="UTC+3":20190203T182000
DTSTAMP:20260420T215751
CREATED:20190127T161930
LAST-MODIFIED:20190127T161930
UID:6049-1549218000-1549218000@www.paddywhelans.com
SUMMARY:Football – English Premier League: Manchester City VS Arsenal
DESCRIPTION:
URL:https://www.paddywhelans.com/event/football-english-premier-league-manchester-city-vs-arsenal/
CATEGORIES:English Premier Leaugue
END:VEVENT
BEGIN:VEVENT
DTSTART;TZID="UTC+3":20190203T192500
DTEND;TZID="UTC+3":20190203T192500
DTSTAMP:20260420T215751
CREATED:20190127T162045
LAST-MODIFIED:20190127T162045
UID:6051-1549221900-1549221900@www.paddywhelans.com
SUMMARY:Football – La Liga: Eibar VS Girona
DESCRIPTION:
URL:https://www.paddywhelans.com/event/football-la-liga-eibar-vs-girona/
CATEGORIES:La Liga
END:VEVENT
BEGIN:VEVENT
DTSTART;TZID="UTC+3":20190203T212500
DTEND;TZID="UTC+3":20190203T212500
DTSTAMP:20260420T215751
CREATED:20190127T162120
LAST-MODIFIED:20190127T162120
UID:6052-1549229100-1549229100@www.paddywhelans.com
SUMMARY:Football – Serie A: Roma VS AC Milan
DESCRIPTION:
URL:https://www.paddywhelans.com/event/football-serie-a-roma-vs-ac-milan/
CATEGORIES:Continental Europe Football
END:VEVENT
END:VCALENDAR