BEGIN:VCALENDAR
VERSION:2.0
PRODID:-//Paddy Whelan`s - ECPv4.0.5//NONSGML v1.0//EN
CALSCALE:GREGORIAN
METHOD:PUBLISH
X-WR-CALNAME:Paddy Whelan`s
X-ORIGINAL-URL:https://www.paddywhelans.com
X-WR-CALDESC:Events for Paddy Whelan`s
BEGIN:VEVENT
DTSTART;TZID="UTC+3":20190202T142000
DTEND;TZID="UTC+3":20190202T142000
DTSTAMP:20260420T232239
CREATED:20190127T161307
LAST-MODIFIED:20190127T161322
UID:6039-1549117200-1549117200@www.paddywhelans.com
SUMMARY:Football – English Premier League: Tottenham Hotspur VS Newcastle United
DESCRIPTION:
URL:https://www.paddywhelans.com/event/football-english-premier-league-1420tottenham-hotspur-vs-newcastle-unitedtvplay-sports/
CATEGORIES:English Premier Leaugue
END:VEVENT
BEGIN:VEVENT
DTSTART;TZID="UTC+3":20190202T155000
DTEND;TZID="UTC+3":20190202T155000
DTSTAMP:20260420T232239
CREATED:20190127T161741
LAST-MODIFIED:20190127T161741
UID:6046-1549122600-1549122600@www.paddywhelans.com
SUMMARY:Ice-hockey – KHL: Dinamo Minsk VS Dinamo Riga
DESCRIPTION:
URL:https://www.paddywhelans.com/event/ice-hockey-khl-dinamo-minsk-vs-dinamo-riga-3/
CATEGORIES:Ice Hockey
END:VEVENT
BEGIN:VEVENT
DTSTART;TZID="UTC+3":20190202T165000
DTEND;TZID="UTC+3":20190202T165000
DTSTAMP:20260420T232239
CREATED:20190127T161359
LAST-MODIFIED:20190127T161359
UID:6040-1549126200-1549126200@www.paddywhelans.com
SUMMARY:Football – English Premier League: Chelsea VS Huddersfield Town
DESCRIPTION:
URL:https://www.paddywhelans.com/event/football-english-premier-league-chelsea-vs-huddersfield-town/
CATEGORIES:English Premier Leaugue
END:VEVENT
BEGIN:VEVENT
DTSTART;TZID="UTC+3":20190202T171000
DTEND;TZID="UTC+3":20190202T171000
DTSTAMP:20260420T232239
CREATED:20190127T161512
LAST-MODIFIED:20190127T161512
UID:6042-1549127400-1549127400@www.paddywhelans.com
SUMMARY:Football – La Liga: Real Sociedad VS Athletic Club
DESCRIPTION:
URL:https://www.paddywhelans.com/event/football-la-liga-real-sociedad-vs-athletic-club/
CATEGORIES:La Liga
END:VEVENT
BEGIN:VEVENT
DTSTART;TZID="UTC+3":20190202T183500
DTEND;TZID="UTC+3":20190202T183500
DTSTAMP:20260420T232239
CREATED:20190127T161704
LAST-MODIFIED:20190127T161704
UID:6045-1549132500-1549132500@www.paddywhelans.com
SUMMARY:Rugby – Six Nations: Ireland VS England
DESCRIPTION:
URL:https://www.paddywhelans.com/event/rugby-six-nations-ireland-vs-england/
CATEGORIES:Rugby Union
END:VEVENT
BEGIN:VEVENT
DTSTART;TZID="UTC+3":20190202T190000
DTEND;TZID="UTC+3":20190202T190000
DTSTAMP:20260420T232239
CREATED:20190127T161436
LAST-MODIFIED:20190127T161436
UID:6041-1549134000-1549134000@www.paddywhelans.com
SUMMARY:Football – English Premier League: Cardiff City VS A.F.C. Bournemouth
DESCRIPTION:
URL:https://www.paddywhelans.com/event/football-english-premier-league-cardiff-city-vs-a-f-c-bournemouth/
CATEGORIES:English Premier Leaugue
END:VEVENT
BEGIN:VEVENT
DTSTART;TZID="UTC+3":20190202T192500
DTEND;TZID="UTC+3":20190202T192500
DTSTAMP:20260420T232239
CREATED:20190127T161548
LAST-MODIFIED:20190127T161548
UID:6043-1549135500-1549135500@www.paddywhelans.com
SUMMARY:Football – La Liga: Barcelona VS Valencia
DESCRIPTION:
URL:https://www.paddywhelans.com/event/football-la-liga-barcelona-vs-valencia/
CATEGORIES:La Liga
END:VEVENT
BEGIN:VEVENT
DTSTART;TZID="UTC+3":20190202T210000
DTEND;TZID="UTC+3":20190202T210000
DTSTAMP:20260420T232239
CREATED:20190127T161816
LAST-MODIFIED:20190127T161816
UID:6047-1549141200-1549141200@www.paddywhelans.com
SUMMARY:Boxing: Garcia VS Cheeseman\, European Super-Welterweight Title
DESCRIPTION:
URL:https://www.paddywhelans.com/event/boxing-garcia-vs-cheeseman-european-super-welterweight-title/
CATEGORIES:Boxing / Fighting
END:VEVENT
BEGIN:VEVENT
DTSTART;TZID="UTC+3":20190202T214000
DTEND;TZID="UTC+3":20190202T214000
DTSTAMP:20260420T232239
CREATED:20190127T161631
LAST-MODIFIED:20190127T161631
UID:6044-1549143600-1549143600@www.paddywhelans.com
SUMMARY:Football – La Liga: Celta Vigo VS Sevilla
DESCRIPTION:
URL:https://www.paddywhelans.com/event/football-la-liga-celta-vigo-vs-sevilla/
CATEGORIES:La Liga
END:VEVENT
END:VCALENDAR