BEGIN:VCALENDAR
VERSION:2.0
PRODID:-//Paddy Whelan`s - ECPv4.0.5//NONSGML v1.0//EN
CALSCALE:GREGORIAN
METHOD:PUBLISH
X-WR-CALNAME:Paddy Whelan`s
X-ORIGINAL-URL:https://www.paddywhelans.com
X-WR-CALDESC:Events for Paddy Whelan`s
BEGIN:VEVENT
DTSTART;TZID="UTC+3":20190130T215000
DTEND;TZID="UTC+3":20190130T215000
DTSTAMP:20260421T042655
CREATED:20190127T160528
LAST-MODIFIED:20190127T160528
UID:6027-1548885000-1548885000@www.paddywhelans.com
SUMMARY:Football – English Premier League: Liverpool VS Leicester City
DESCRIPTION:
URL:https://www.paddywhelans.com/event/football-english-premier-league-liverpool-vs-leicester-city/
CATEGORIES:English Premier Leaugue
END:VEVENT
BEGIN:VEVENT
DTSTART;TZID="UTC+3":20190130T215000
DTEND;TZID="UTC+3":20190130T215000
DTSTAMP:20260421T042655
CREATED:20190127T160601
LAST-MODIFIED:20190127T160601
UID:6028-1548885000-1548885000@www.paddywhelans.com
SUMMARY:Football – English Premier League: Tottenham Hotspur VS Watford
DESCRIPTION:
URL:https://www.paddywhelans.com/event/football-english-premier-league-tottenham-hotspur-vs-watford-2/
CATEGORIES:English Premier Leaugue
END:VEVENT
BEGIN:VEVENT
DTSTART;TZID="UTC+3":20190130T215500
DTEND;TZID="UTC+3":20190130T215500
DTSTAMP:20260421T042655
CREATED:20190127T160635
LAST-MODIFIED:20190127T160635
UID:6029-1548885300-1548885300@www.paddywhelans.com
SUMMARY:Football – Ligue 1: Nantes VS St Etienne
DESCRIPTION:
URL:https://www.paddywhelans.com/event/football-ligue-1-nantes-vs-st-etienne/
CATEGORIES:Continental Europe Football
END:VEVENT
END:VCALENDAR