BEGIN:VCALENDAR
VERSION:2.0
PRODID:-//Paddy Whelan`s - ECPv4.0.5//NONSGML v1.0//EN
CALSCALE:GREGORIAN
METHOD:PUBLISH
X-WR-CALNAME:Paddy Whelan`s
X-ORIGINAL-URL:https://www.paddywhelans.com
X-WR-CALDESC:Events for Paddy Whelan`s
BEGIN:VEVENT
DTSTART;TZID="UTC+3":20190124T191000
DTEND;TZID="UTC+3":20190124T191000
DTSTAMP:20260421T185034
CREATED:20190121T095655
LAST-MODIFIED:20190121T095655
UID:6011-1548357000-1548357000@www.paddywhelans.com
SUMMARY:Ice-hockey – KHL: Dinamo Riga VS Dinamo Minsk
DESCRIPTION:
URL:https://www.paddywhelans.com/event/ice-hockey-khl-dinamo-riga-vs-dinamo-minsk/
CATEGORIES:Ice Hockey
END:VEVENT
BEGIN:VEVENT
DTSTART;TZID="UTC+3":20190124T191500
DTEND;TZID="UTC+3":20190124T191500
DTSTAMP:20260421T185034
CREATED:20190121T093958
LAST-MODIFIED:20190121T093958
UID:6009-1548357300-1548357300@www.paddywhelans.com
SUMMARY:Basketball – Turkish Airlines Euroleague: Fenerbahce Istanbul VS Olympiacos Piraeus
DESCRIPTION:
URL:https://www.paddywhelans.com/event/basketball-turkish-airlines-euroleague-fenerbahce-istanbul-vs-olympiacos-piraeus/
CATEGORIES:Basketball
END:VEVENT
BEGIN:VEVENT
DTSTART;TZID="UTC+3":20190124T213000
DTEND;TZID="UTC+3":20190124T213000
DTSTAMP:20260421T185034
CREATED:20190121T095623
LAST-MODIFIED:20190121T095623
UID:6010-1548365400-1548365400@www.paddywhelans.com
SUMMARY:Basketball – Turkish Airlines Euroleague: Armani Milan VS Zalgiris Kaunas
DESCRIPTION:
URL:https://www.paddywhelans.com/event/basketball-turkish-airlines-euroleague-armani-milan-vs-zalgiris-kaunas/
CATEGORIES:Basketball
END:VEVENT
END:VCALENDAR