BEGIN:VCALENDAR
VERSION:2.0
PRODID:-//Paddy Whelan`s - ECPv4.0.5//NONSGML v1.0//EN
CALSCALE:GREGORIAN
METHOD:PUBLISH
X-WR-CALNAME:Paddy Whelan`s
X-ORIGINAL-URL:https://www.paddywhelans.com
X-WR-CALDESC:Events for Paddy Whelan`s
BEGIN:VEVENT
DTSTART;TZID="UTC+3":20190120T132500
DTEND;TZID="UTC+3":20190120T132500
DTSTAMP:20260422T020915
CREATED:20190113T144113
LAST-MODIFIED:20190113T144113
UID:6003-1547990700-1547990700@www.paddywhelans.com
SUMMARY:Football – Serie A: Frosinone VS Atalanta
DESCRIPTION:
URL:https://www.paddywhelans.com/event/football-serie-a-frosinone-vs-atalanta/
CATEGORIES:Continental Europe Football
END:VEVENT
BEGIN:VEVENT
DTSTART;TZID="UTC+3":20190120T152000
DTEND;TZID="UTC+3":20190120T152000
DTSTAMP:20260422T020915
CREATED:20190113T143939
LAST-MODIFIED:20190113T143939
UID:6001-1547997600-1547997600@www.paddywhelans.com
SUMMARY:Football – English Premier League: Huddersfield Town VS Manchester City
DESCRIPTION:
URL:https://www.paddywhelans.com/event/football-english-premier-league-huddersfield-town-vs-manchester-city/
CATEGORIES:English Premier Leaugue
END:VEVENT
BEGIN:VEVENT
DTSTART;TZID="UTC+3":20190120T171000
DTEND;TZID="UTC+3":20190120T171000
DTSTAMP:20260422T020915
CREATED:20190113T144147
LAST-MODIFIED:20190113T144147
UID:6004-1548004200-1548004200@www.paddywhelans.com
SUMMARY:Football – La Liga: Villarreal VS Athletic Club
DESCRIPTION:
URL:https://www.paddywhelans.com/event/football-la-liga-villarreal-vs-athletic-club/
CATEGORIES:La Liga
END:VEVENT
BEGIN:VEVENT
DTSTART;TZID="UTC+3":20190120T172000
DTEND;TZID="UTC+3":20190120T172000
DTSTAMP:20260422T020915
CREATED:20190113T144021
LAST-MODIFIED:20190113T144021
UID:6002-1548004800-1548004800@www.paddywhelans.com
SUMMARY:Football – English Premier League: Fulham VS Tottenham Hotspur
DESCRIPTION:
URL:https://www.paddywhelans.com/event/football-english-premier-league-fulham-vs-tottenham-hotspur/
CATEGORIES:English Premier Leaugue
END:VEVENT
BEGIN:VEVENT
DTSTART;TZID="UTC+3":20190120T214000
DTEND;TZID="UTC+3":20190120T214000
DTSTAMP:20260422T020915
CREATED:20190113T144224
LAST-MODIFIED:20190113T144224
UID:6005-1548020400-1548020400@www.paddywhelans.com
SUMMARY:Football – La Liga: Barcelona VS Leganes
DESCRIPTION:
URL:https://www.paddywhelans.com/event/football-la-liga-barcelona-vs-leganes/
CATEGORIES:La Liga
END:VEVENT
END:VCALENDAR