BEGIN:VCALENDAR
VERSION:2.0
PRODID:-//Paddy Whelan`s - ECPv4.0.5//NONSGML v1.0//EN
CALSCALE:GREGORIAN
METHOD:PUBLISH
X-WR-CALNAME:Paddy Whelan`s
X-ORIGINAL-URL:https://www.paddywhelans.com
X-WR-CALDESC:Events for Paddy Whelan`s
BEGIN:VEVENT
DTSTART;TZID="UTC+3":20190117T184500
DTEND;TZID="UTC+3":20190117T184500
DTSTAMP:20260422T074544
CREATED:20190113T142431
LAST-MODIFIED:20190113T142431
UID:5986-1547750700-1547750700@www.paddywhelans.com
SUMMARY:Basketball – Turkish Airlines Euroleague: CSKA Moscow VS Bayern München
DESCRIPTION:
URL:https://www.paddywhelans.com/event/basketball-turkish-airlines-euroleague-cska-moscow-vs-bayern-munchen/
CATEGORIES:Basketball
END:VEVENT
BEGIN:VEVENT
DTSTART;TZID="UTC+3":20190117T191000
DTEND;TZID="UTC+3":20190117T191000
DTSTAMP:20260422T074544
CREATED:20190113T142617
LAST-MODIFIED:20190113T142617
UID:5989-1547752200-1547752200@www.paddywhelans.com
SUMMARY:Ice-hockey – KHL: Dinamo Riga VS Metallurg Magnitogorsk
DESCRIPTION:
URL:https://www.paddywhelans.com/event/ice-hockey-khl-dinamo-riga-vs-metallurg-magnitogorsk/
CATEGORIES:Ice Hockey
END:VEVENT
BEGIN:VEVENT
DTSTART;TZID="UTC+3":20190117T204500
DTEND;TZID="UTC+3":20190117T204500
DTSTAMP:20260422T074544
CREATED:20190113T142508
LAST-MODIFIED:20190113T142508
UID:5987-1547757900-1547757900@www.paddywhelans.com
SUMMARY:Basketball – Turkish Airlines Euroleague: Olympiacos Piraeus VS Khimki Moscow Region
DESCRIPTION:
URL:https://www.paddywhelans.com/event/basketball-turkish-airlines-euroleague-olympiacos-piraeus-vs-khimki-moscow-region/
CATEGORIES:Basketball
END:VEVENT
BEGIN:VEVENT
DTSTART;TZID="UTC+3":20190117T215000
DTEND;TZID="UTC+3":20190117T215000
DTSTAMP:20260422T074544
CREATED:20190113T142541
LAST-MODIFIED:20190113T142541
UID:5988-1547761800-1547761800@www.paddywhelans.com
SUMMARY:Basketball – Turkish Airlines Euroleague: Herbalife Gran Canaria VS Fenerbahce Istanbul
DESCRIPTION:
URL:https://www.paddywhelans.com/event/basketball-turkish-airlines-euroleague-herbalife-gran-canaria-vs-fenerbahce-istanbul/
CATEGORIES:Basketball
END:VEVENT
END:VCALENDAR