BEGIN:VCALENDAR
VERSION:2.0
PRODID:-//Paddy Whelan`s - ECPv4.0.5//NONSGML v1.0//EN
CALSCALE:GREGORIAN
METHOD:PUBLISH
X-WR-CALNAME:Paddy Whelan`s
X-ORIGINAL-URL:https://www.paddywhelans.com
X-WR-CALDESC:Events for Paddy Whelan`s
BEGIN:VEVENT
DTSTART;TZID="UTC+3":20190115T192500
DTEND;TZID="UTC+3":20190115T192500
DTSTAMP:20260422T110858
CREATED:20190113T142234
LAST-MODIFIED:20190113T142234
UID:5984-1547580300-1547580300@www.paddywhelans.com
SUMMARY:Ice-hockey – KHL: Dinamo Riga VS Avtomobilist Yekaterinburg
DESCRIPTION:
URL:https://www.paddywhelans.com/event/ice-hockey-khl-dinamo-riga-vs-avtomobilist-yekaterinburg/
CATEGORIES:Ice Hockey
END:VEVENT
BEGIN:VEVENT
DTSTART;TZID="UTC+3":20190115T195500
DTEND;TZID="UTC+3":20190115T195500
DTSTAMP:20260422T110858
CREATED:20190113T142149
LAST-MODIFIED:20190113T142257
UID:5983-1547582100-1547582100@www.paddywhelans.com
SUMMARY:Football – Ligue 1: Angers VS Bordeaux
DESCRIPTION:
URL:https://www.paddywhelans.com/event/football-ligue-1-angers-vs-bordeaux/
CATEGORIES:Continental Europe Football
END:VEVENT
END:VCALENDAR