BEGIN:VCALENDAR
VERSION:2.0
PRODID:-//Paddy Whelan`s - ECPv4.0.5//NONSGML v1.0//EN
CALSCALE:GREGORIAN
METHOD:PUBLISH
X-WR-CALNAME:Paddy Whelan`s
X-ORIGINAL-URL:https://www.paddywhelans.com
X-WR-CALDESC:Events for Paddy Whelan`s
BEGIN:VEVENT
DTSTART;TZID="UTC+3":20190110T155000
DTEND;TZID="UTC+3":20190110T155000
DTSTAMP:20260422T190956
CREATED:20190105T213111
LAST-MODIFIED:20190105T213111
UID:5960-1547135400-1547135400@www.paddywhelans.com
SUMMARY:Ice-hockey – KHL: Salavat Yulaev Ufa VS Dinamo Riga
DESCRIPTION:
URL:https://www.paddywhelans.com/event/ice-hockey-khl-salavat-yulaev-ufa-vs-dinamo-riga/
CATEGORIES:Ice Hockey
END:VEVENT
BEGIN:VEVENT
DTSTART;TZID="UTC+3":20190110T184500
DTEND;TZID="UTC+3":20190110T184500
DTSTAMP:20260422T190956
CREATED:20190105T212941
LAST-MODIFIED:20190105T212941
UID:5957-1547145900-1547145900@www.paddywhelans.com
SUMMARY:Basketball – Turkish Airlines Euroleague: Anadolu Efes Istanbul VS Khimki Moscow
DESCRIPTION:
URL:https://www.paddywhelans.com/event/basketball-turkish-airlines-euroleague-anadolu-efes-istanbul-vs-khimki-moscow/
CATEGORIES:Basketball
END:VEVENT
BEGIN:VEVENT
DTSTART;TZID="UTC+3":20190110T193000
DTEND;TZID="UTC+3":20190110T193000
DTSTAMP:20260422T190956
CREATED:20190105T213009
LAST-MODIFIED:20190105T213009
UID:5958-1547148600-1547148600@www.paddywhelans.com
SUMMARY:Basketball – Turkish Airlines Euroleague: Fenerbahce Istanbul VS Kaunas Žalgiris
DESCRIPTION:
URL:https://www.paddywhelans.com/event/basketball-turkish-airlines-euroleague-fenerbahce-istanbul-vs-kaunas-zalgiris/
CATEGORIES:Basketball
END:VEVENT
BEGIN:VEVENT
DTSTART;TZID="UTC+3":20190110T214500
DTEND;TZID="UTC+3":20190110T214500
DTSTAMP:20260422T190956
CREATED:20190105T213039
LAST-MODIFIED:20190105T213039
UID:5959-1547156700-1547156700@www.paddywhelans.com
SUMMARY:Basketball – Turkish Airlines Euroleague: Real Madrid VS Olympiacos Piraeus
DESCRIPTION:
URL:https://www.paddywhelans.com/event/basketball-turkish-airlines-euroleague-real-madrid-vs-olympiacos-piraeus/
CATEGORIES:Basketball
END:VEVENT
END:VCALENDAR