BEGIN:VCALENDAR
VERSION:2.0
PRODID:-//Paddy Whelan`s - ECPv4.0.5//NONSGML v1.0//EN
CALSCALE:GREGORIAN
METHOD:PUBLISH
X-WR-CALNAME:Paddy Whelan`s
X-ORIGINAL-URL:https://www.paddywhelans.com
X-WR-CALDESC:Events for Paddy Whelan`s
BEGIN:VEVENT
DTSTART;TZID="UTC+3":20190106T125500
DTEND;TZID="UTC+3":20190106T125500
DTSTAMP:20260423T015222
CREATED:20190103T095748
LAST-MODIFIED:20190103T095748
UID:5942-1546779300-1546779300@www.paddywhelans.com
SUMMARY:Football – La Liga: Eibar VS Villarreal
DESCRIPTION:
URL:https://www.paddywhelans.com/event/football-la-liga-eibar-vs-villarreal/
CATEGORIES:La Liga
END:VEVENT
BEGIN:VEVENT
DTSTART;TZID="UTC+3":20190106T155000
DTEND;TZID="UTC+3":20190106T155000
DTSTAMP:20260423T015222
CREATED:20190103T100057
LAST-MODIFIED:20190103T100057
UID:5947-1546789800-1546789800@www.paddywhelans.com
SUMMARY:Ice-hockey – KHL: HC Dynamo Moscow VS Dinamo Riga
DESCRIPTION:
URL:https://www.paddywhelans.com/event/ice-hockey-khl-hc-dynamo-moscow-vs-dinamo-riga/
CATEGORIES:Ice Hockey
END:VEVENT
BEGIN:VEVENT
DTSTART;TZID="UTC+3":20190106T171000
DTEND;TZID="UTC+3":20190106T171000
DTSTAMP:20260423T015222
CREATED:20190103T095824
LAST-MODIFIED:20190103T095824
UID:5943-1546794600-1546794600@www.paddywhelans.com
SUMMARY:Football – La Liga: Sevilla VS Atletico Madrid
DESCRIPTION:
URL:https://www.paddywhelans.com/event/football-la-liga-sevilla-vs-atletico-madrid/
CATEGORIES:La Liga
END:VEVENT
BEGIN:VEVENT
DTSTART;TZID="UTC+3":20190106T185000
DTEND;TZID="UTC+3":20190106T185000
DTSTAMP:20260423T015222
CREATED:20190103T100024
LAST-MODIFIED:20190103T100024
UID:5946-1546800600-1546800600@www.paddywhelans.com
SUMMARY:Volleyball – European Championship\, Men: Estonia VS Latvia
DESCRIPTION:
URL:https://www.paddywhelans.com/event/volleyball-european-championship-men-estonia-vs-latvia/
CATEGORIES:Other Sports
END:VEVENT
BEGIN:VEVENT
DTSTART;TZID="UTC+3":20190106T192500
DTEND;TZID="UTC+3":20190106T192500
DTSTAMP:20260423T015222
CREATED:20190103T095900
LAST-MODIFIED:20190103T095900
UID:5944-1546802700-1546802700@www.paddywhelans.com
SUMMARY:Football – La Liga: Real Madrid VS Real Sociedad
DESCRIPTION:
URL:https://www.paddywhelans.com/event/football-la-liga-real-madrid-vs-real-sociedad/
CATEGORIES:La Liga
END:VEVENT
BEGIN:VEVENT
DTSTART;TZID="UTC+3":20190106T214000
DTEND;TZID="UTC+3":20190106T214000
DTSTAMP:20260423T015222
CREATED:20190103T095934
LAST-MODIFIED:20190103T095934
UID:5945-1546810800-1546810800@www.paddywhelans.com
SUMMARY:Football – La Liga: Getafe VS Barcelona
DESCRIPTION:
URL:https://www.paddywhelans.com/event/football-la-liga-getafe-vs-barcelona/
CATEGORIES:La Liga
END:VEVENT
END:VCALENDAR