BEGIN:VCALENDAR
VERSION:2.0
PRODID:-//Paddy Whelan`s - ECPv4.0.5//NONSGML v1.0//EN
CALSCALE:GREGORIAN
METHOD:PUBLISH
X-WR-CALNAME:Paddy Whelan`s
X-ORIGINAL-URL:https://www.paddywhelans.com
X-WR-CALDESC:Events for Paddy Whelan`s
BEGIN:VEVENT
DTSTART;TZID="UTC+3":20190105T135500
DTEND;TZID="UTC+3":20190105T135500
DTSTAMP:20260423T035740
CREATED:20181229T154819
LAST-MODIFIED:20181229T154819
UID:5938-1546696500-1546696500@www.paddywhelans.com
SUMMARY:Football – La Liga: Real Valladolid VS Rayo Vallecano
DESCRIPTION:
URL:https://www.paddywhelans.com/event/football-la-liga-real-valladolid-vs-rayo-vallecano/
CATEGORIES:La Liga
END:VEVENT
BEGIN:VEVENT
DTSTART;TZID="UTC+3":20190105T155000
DTEND;TZID="UTC+3":20190105T155000
DTSTAMP:20260423T035740
CREATED:20181229T155021
LAST-MODIFIED:20181229T155021
UID:5941-1546703400-1546703400@www.paddywhelans.com
SUMMARY:Ice-hockey – KHL: HC Sochi VS Barys Astana
DESCRIPTION:
URL:https://www.paddywhelans.com/event/ice-hockey-khl-hc-sochi-vs-barys-astana/
CATEGORIES:Ice Hockey
END:VEVENT
BEGIN:VEVENT
DTSTART;TZID="UTC+3":20190105T171000
DTEND;TZID="UTC+3":20190105T171000
DTSTAMP:20260423T035740
CREATED:20181229T154859
LAST-MODIFIED:20181229T154859
UID:5939-1546708200-1546708200@www.paddywhelans.com
SUMMARY:Football – La Liga: Alaves VS Valencia
DESCRIPTION:
URL:https://www.paddywhelans.com/event/football-la-liga-alaves-vs-valencia/
CATEGORIES:La Liga
END:VEVENT
BEGIN:VEVENT
DTSTART;TZID="UTC+3":20190105T214000
DTEND;TZID="UTC+3":20190105T214000
DTSTAMP:20260423T035740
CREATED:20181229T154938
LAST-MODIFIED:20181229T154938
UID:5940-1546724400-1546724400@www.paddywhelans.com
SUMMARY:Football – La Liga: Huesca VS Real Betis
DESCRIPTION:
URL:https://www.paddywhelans.com/event/football-la-liga-huesca-vs-real-betis/
CATEGORIES:La Liga
END:VEVENT
END:VCALENDAR