BEGIN:VCALENDAR
VERSION:2.0
PRODID:-//Paddy Whelan`s - ECPv4.0.5//NONSGML v1.0//EN
CALSCALE:GREGORIAN
METHOD:PUBLISH
X-WR-CALNAME:Paddy Whelan`s
X-ORIGINAL-URL:https://www.paddywhelans.com
X-WR-CALDESC:Events for Paddy Whelan`s
BEGIN:VEVENT
DTSTART;TZID="UTC+3":20190104T155000
DTEND;TZID="UTC+3":20190104T155000
DTSTAMP:20260423T055701
CREATED:20181229T154729
LAST-MODIFIED:20181229T154729
UID:5937-1546617000-1546617000@www.paddywhelans.com
SUMMARY:Ice-hockey – KHL: Lokomotiv Yaroslavl VS Dinamo Riga
DESCRIPTION:
URL:https://www.paddywhelans.com/event/ice-hockey-khl-lokomotiv-yaroslavl-vs-dinamo-riga/
CATEGORIES:Ice Hockey
END:VEVENT
BEGIN:VEVENT
DTSTART;TZID="UTC+3":20190104T194500
DTEND;TZID="UTC+3":20190104T194500
DTSTAMP:20260423T055701
CREATED:20181229T154527
LAST-MODIFIED:20181229T154527
UID:5934-1546631100-1546631100@www.paddywhelans.com
SUMMARY:Basketball – Turkish Airlines Euroleague: Kaunas Zalgiris VS CSKA Moscow
DESCRIPTION:
URL:https://www.paddywhelans.com/event/basketball-turkish-airlines-euroleague-kaunas-zalgiris-vs-cska-moscow/
CATEGORIES:Basketball
END:VEVENT
BEGIN:VEVENT
DTSTART;TZID="UTC+3":20190104T195500
DTEND;TZID="UTC+3":20190104T195500
DTSTAMP:20260423T055701
CREATED:20181229T154405
LAST-MODIFIED:20181229T154405
UID:5932-1546631700-1546631700@www.paddywhelans.com
SUMMARY:Football – La Liga: Levante VS Girona
DESCRIPTION:
URL:https://www.paddywhelans.com/event/football-la-liga-levante-vs-girona/
CATEGORIES:La Liga
END:VEVENT
BEGIN:VEVENT
DTSTART;TZID="UTC+3":20190104T204500
DTEND;TZID="UTC+3":20190104T204500
DTSTAMP:20260423T055701
CREATED:20181229T154603
LAST-MODIFIED:20181229T154603
UID:5935-1546634700-1546634700@www.paddywhelans.com
SUMMARY:Basketball – Turkish Airlines Euroleague: Olympiacos Piraeus VS Panathinaikos Athens
DESCRIPTION:
URL:https://www.paddywhelans.com/event/basketball-turkish-airlines-euroleague-olympiacos-piraeus-vs-panathinaikos-athens/
CATEGORIES:Basketball
END:VEVENT
BEGIN:VEVENT
DTSTART;TZID="UTC+3":20190104T214500
DTEND;TZID="UTC+3":20190104T214500
DTSTAMP:20260423T055701
CREATED:20181229T154640
LAST-MODIFIED:20181229T154640
UID:5936-1546638300-1546638300@www.paddywhelans.com
SUMMARY:Basketball – Turkish Airlines Euroleague: Bacelona Lassa VS Darussafaka Istanbul
DESCRIPTION:
URL:https://www.paddywhelans.com/event/basketball-turkish-airlines-euroleague-bacelona-lassa-vs-darussafaka-istanbul/
CATEGORIES:Basketball
END:VEVENT
BEGIN:VEVENT
DTSTART;TZID="UTC+3":20190104T215500
DTEND;TZID="UTC+3":20190104T215500
DTSTAMP:20260423T055701
CREATED:20181229T154446
LAST-MODIFIED:20181229T154446
UID:5933-1546638900-1546638900@www.paddywhelans.com
SUMMARY:Football – La Liga: Espanyol VS Leganes
DESCRIPTION:
URL:https://www.paddywhelans.com/event/football-la-liga-espanyol-vs-leganes/
CATEGORIES:La Liga
END:VEVENT
END:VCALENDAR