BEGIN:VCALENDAR
VERSION:2.0
PRODID:-//Paddy Whelan`s - ECPv4.0.5//NONSGML v1.0//EN
CALSCALE:GREGORIAN
METHOD:PUBLISH
X-WR-CALNAME:Paddy Whelan`s
X-ORIGINAL-URL:https://www.paddywhelans.com
X-WR-CALDESC:Events for Paddy Whelan`s
BEGIN:VEVENT
DTSTART;TZID="UTC+3":20181228T143000
DTEND;TZID="UTC+3":20181228T143000
DTSTAMP:20260423T175556
CREATED:20181223T205420
LAST-MODIFIED:20181223T205420
UID:5904-1546007400-1546007400@www.paddywhelans.com
SUMMARY:Darts: William Hill World Championship\, Day 13 Afternoon
DESCRIPTION:
URL:https://www.paddywhelans.com/event/darts-william-hill-world-championship-day-13-afternoon/
CATEGORIES:Other Sports
END:VEVENT
BEGIN:VEVENT
DTSTART;TZID="UTC+3":20181228T191000
DTEND;TZID="UTC+3":20181228T191000
DTSTAMP:20260423T175556
CREATED:20181223T205347
LAST-MODIFIED:20181223T205347
UID:5903-1546024200-1546024200@www.paddywhelans.com
SUMMARY:Ice-hockey – KHL: Dinamo Riga VS Torpedo Nizhny Novgorod
DESCRIPTION:
URL:https://www.paddywhelans.com/event/ice-hockey-khl-dinamo-riga-vs-torpedo-nizhny-novgorod/
CATEGORIES:Ice Hockey
END:VEVENT
BEGIN:VEVENT
DTSTART;TZID="UTC+3":20181228T191500
DTEND;TZID="UTC+3":20181228T191500
DTSTAMP:20260423T175556
CREATED:20181223T205205
LAST-MODIFIED:20181223T205205
UID:5900-1546024500-1546024500@www.paddywhelans.com
SUMMARY:Basketball – Turkish Airlines Euroleague: Fenerbahce Istanbul VS Real Madrid
DESCRIPTION:
URL:https://www.paddywhelans.com/event/basketball-turkish-airlines-euroleague-fenerbahce-istanbul-vs-real-madrid/
CATEGORIES:Basketball
END:VEVENT
BEGIN:VEVENT
DTSTART;TZID="UTC+3":20181228T204500
DTEND;TZID="UTC+3":20181228T204500
DTSTAMP:20260423T175556
CREATED:20181223T205236
LAST-MODIFIED:20181223T205236
UID:5901-1546029900-1546029900@www.paddywhelans.com
SUMMARY:Basketball – Turkish Airlines Euroleague: Panathinaikos Athens VS CSKA Moscow
DESCRIPTION:
URL:https://www.paddywhelans.com/event/basketball-turkish-airlines-euroleague-panathinaikos-athens-vs-cska-moscow/
CATEGORIES:Basketball
END:VEVENT
BEGIN:VEVENT
DTSTART;TZID="UTC+3":20181228T214500
DTEND;TZID="UTC+3":20181228T214500
DTSTAMP:20260423T175556
CREATED:20181223T205315
LAST-MODIFIED:20181223T205315
UID:5902-1546033500-1546033500@www.paddywhelans.com
SUMMARY:Basketball – Turkish Airlines Euroleague: Herbalife Gran Canaria VS Kaunas Žalgiris
DESCRIPTION:
URL:https://www.paddywhelans.com/event/basketball-turkish-airlines-euroleague-herbalife-gran-canaria-vs-kaunas-zalgiris/
CATEGORIES:Basketball
END:VEVENT
END:VCALENDAR