BEGIN:VCALENDAR
VERSION:2.0
PRODID:-//Paddy Whelan`s - ECPv4.0.5//NONSGML v1.0//EN
CALSCALE:GREGORIAN
METHOD:PUBLISH
X-WR-CALNAME:Paddy Whelan`s
X-ORIGINAL-URL:https://www.paddywhelans.com
X-WR-CALDESC:Events for Paddy Whelan`s
BEGIN:VEVENT
DTSTART;TZID="UTC+3":20181227T143000
DTEND;TZID="UTC+3":20181227T143000
DTSTAMP:20260423T193202
CREATED:20181223T205130
LAST-MODIFIED:20181223T205130
UID:5899-1545921000-1545921000@www.paddywhelans.com
SUMMARY:Darts: William Hill World Championship\, Day 12 Afternoon
DESCRIPTION:
URL:https://www.paddywhelans.com/event/darts-william-hill-world-championship-day-12-afternoon/
CATEGORIES:Other Sports
END:VEVENT
BEGIN:VEVENT
DTSTART;TZID="UTC+3":20181227T190000
DTEND;TZID="UTC+3":20181227T190000
DTSTAMP:20260423T193202
CREATED:20181223T205003
LAST-MODIFIED:20181223T205003
UID:5897-1545937200-1545937200@www.paddywhelans.com
SUMMARY:Basketball – Turkish Airlines Euroleague: Darussafaka Istanbul VS Olympiacos Piraeus
DESCRIPTION:
URL:https://www.paddywhelans.com/event/basketball-turkish-airlines-euroleague-darussafaka-istanbul-vs-olympiacos-piraeus/
CATEGORIES:Basketball
END:VEVENT
BEGIN:VEVENT
DTSTART;TZID="UTC+3":20181227T205000
DTEND;TZID="UTC+3":20181227T205000
DTSTAMP:20260423T193202
CREATED:20181223T205036
LAST-MODIFIED:20181223T205036
UID:5898-1545943800-1545943800@www.paddywhelans.com
SUMMARY:Basketball – Turkish Airlines Euroleague: Maccabi Fox Tel Aviv VS Armani Milan
DESCRIPTION:
URL:https://www.paddywhelans.com/event/basketball-turkish-airlines-euroleague-maccabi-fox-tel-aviv-vs-armani-milan/
CATEGORIES:Basketball
END:VEVENT
BEGIN:VEVENT
DTSTART;TZID="UTC+3":20181227T213500
DTEND;TZID="UTC+3":20181227T213500
DTSTAMP:20260423T193202
CREATED:20181223T204929
LAST-MODIFIED:20181223T204929
UID:5896-1545946500-1545946500@www.paddywhelans.com
SUMMARY:Football – English Premier League: Southampton VS West Ham United
DESCRIPTION:
URL:https://www.paddywhelans.com/event/football-english-premier-league-southampton-vs-west-ham-united/
CATEGORIES:English Premier Leaugue
END:VEVENT
END:VCALENDAR