BEGIN:VCALENDAR
VERSION:2.0
PRODID:-//Paddy Whelan`s - ECPv4.0.5//NONSGML v1.0//EN
CALSCALE:GREGORIAN
METHOD:PUBLISH
X-WR-CALNAME:Paddy Whelan`s
X-ORIGINAL-URL:https://www.paddywhelans.com
X-WR-CALDESC:Events for Paddy Whelan`s
BEGIN:VEVENT
DTSTART;TZID="UTC+3":20181223T125500
DTEND;TZID="UTC+3":20181223T125500
DTSTAMP:20260424T181353
CREATED:20181217T100446
LAST-MODIFIED:20181217T100446
UID:5882-1545569700-1545569700@www.paddywhelans.com
SUMMARY:Football – La Liga: Valencia VS Huesca
DESCRIPTION:
URL:https://www.paddywhelans.com/event/football-la-liga-valencia-vs-huesca/
CATEGORIES:La Liga
END:VEVENT
BEGIN:VEVENT
DTSTART;TZID="UTC+3":20181223T143000
DTEND;TZID="UTC+3":20181223T143000
DTSTAMP:20260424T181353
CREATED:20181217T100631
LAST-MODIFIED:20181217T100631
UID:5885-1545575400-1545575400@www.paddywhelans.com
SUMMARY:Darts: William Hill World Championship\, Day 11 Afternoon
DESCRIPTION:
URL:https://www.paddywhelans.com/event/darts-william-hill-world-championship-day-11-afternoon/
CATEGORIES:Other Sports
END:VEVENT
BEGIN:VEVENT
DTSTART;TZID="UTC+3":20181223T171000
DTEND;TZID="UTC+3":20181223T171000
DTSTAMP:20260424T181353
CREATED:20181217T100521
LAST-MODIFIED:20181217T100521
UID:5883-1545585000-1545585000@www.paddywhelans.com
SUMMARY:Football – La Liga: Leganes VS Sevilla
DESCRIPTION:
URL:https://www.paddywhelans.com/event/football-la-liga-leganes-vs-sevilla/
CATEGORIES:La Liga
END:VEVENT
BEGIN:VEVENT
DTSTART;TZID="UTC+3":20181223T175000
DTEND;TZID="UTC+3":20181223T175000
DTSTAMP:20260424T181353
CREATED:20181217T100405
LAST-MODIFIED:20181217T100405
UID:5881-1545587400-1545587400@www.paddywhelans.com
SUMMARY:Football – English Premier League: Everton VS Tottenham Hotspur
DESCRIPTION:
URL:https://www.paddywhelans.com/event/football-english-premier-league-everton-vs-tottenham-hotspur/
CATEGORIES:English Premier Leaugue
END:VEVENT
BEGIN:VEVENT
DTSTART;TZID="UTC+3":20181223T192500
DTEND;TZID="UTC+3":20181223T192500
DTSTAMP:20260424T181353
CREATED:20181217T100555
LAST-MODIFIED:20181217T100555
UID:5884-1545593100-1545593100@www.paddywhelans.com
SUMMARY:Football – La Liga: Rayo Vallecano VS Levante
DESCRIPTION:
URL:https://www.paddywhelans.com/event/football-la-liga-rayo-vallecano-vs-levante/
CATEGORIES:La Liga
END:VEVENT
BEGIN:VEVENT
DTSTART;TZID="UTC+3":20181223T210000
DTEND;TZID="UTC+3":20181223T210000
DTSTAMP:20260424T181353
CREATED:20181217T100711
LAST-MODIFIED:20181217T100711
UID:5886-1545598800-1545598800@www.paddywhelans.com
SUMMARY:Darts: William Hill World Championship\, Day 11 Evening
DESCRIPTION:
URL:https://www.paddywhelans.com/event/darts-william-hill-world-championship-day-11-evening/
CATEGORIES:Other Sports
END:VEVENT
END:VCALENDAR