BEGIN:VCALENDAR
VERSION:2.0
PRODID:-//Paddy Whelan`s - ECPv4.0.5//NONSGML v1.0//EN
CALSCALE:GREGORIAN
METHOD:PUBLISH
X-WR-CALNAME:Paddy Whelan`s
X-ORIGINAL-URL:https://www.paddywhelans.com
X-WR-CALDESC:Events for Paddy Whelan`s
BEGIN:VEVENT
DTSTART;TZID="UTC+3":20181222T132500
DTEND;TZID="UTC+3":20181222T132500
DTSTAMP:20260424T200544
CREATED:20181217T100036
LAST-MODIFIED:20181217T100036
UID:5876-1545485100-1545485100@www.paddywhelans.com
SUMMARY:Football – Serie A: Lazio VS Cagliari
DESCRIPTION:
URL:https://www.paddywhelans.com/event/football-serie-a-lazio-vs-cagliari/
CATEGORIES:Continental Europe Football
END:VEVENT
BEGIN:VEVENT
DTSTART;TZID="UTC+3":20181222T142000
DTEND;TZID="UTC+3":20181222T142000
DTSTAMP:20260424T200544
CREATED:20181217T095637
LAST-MODIFIED:20181217T095637
UID:5871-1545488400-1545488400@www.paddywhelans.com
SUMMARY:Football – English Premier League: Arsenal VS Burnley
DESCRIPTION:
URL:https://www.paddywhelans.com/event/football-english-premier-league-arsenal-vs-burnley/
CATEGORIES:English Premier Leaugue
END:VEVENT
BEGIN:VEVENT
DTSTART;TZID="UTC+3":20181222T155000
DTEND;TZID="UTC+3":20181222T155000
DTSTAMP:20260424T200544
CREATED:20181217T100204
LAST-MODIFIED:20181217T100204
UID:5878-1545493800-1545493800@www.paddywhelans.com
SUMMARY:Ice-hockey – KHL: Jokerit Helsinki VS Dinamo Riga
DESCRIPTION:
URL:https://www.paddywhelans.com/event/ice-hockey-khl-jokerit-helsinki-vs-dinamo-riga-2/
CATEGORIES:Ice Hockey
END:VEVENT
BEGIN:VEVENT
DTSTART;TZID="UTC+3":20181222T165000
DTEND;TZID="UTC+3":20181222T165000
DTSTAMP:20260424T200544
CREATED:20181217T095730
LAST-MODIFIED:20181217T095730
UID:5872-1545497400-1545497400@www.paddywhelans.com
SUMMARY:Football – English Premier League: Chelsea VS Leicester City
DESCRIPTION:
URL:https://www.paddywhelans.com/event/football-english-premier-league-chelsea-vs-leicester-city/
CATEGORIES:English Premier Leaugue
END:VEVENT
BEGIN:VEVENT
DTSTART;TZID="UTC+3":20181222T171000
DTEND;TZID="UTC+3":20181222T171000
DTSTAMP:20260424T200544
CREATED:20181217T095857
LAST-MODIFIED:20181217T095857
UID:5874-1545498600-1545498600@www.paddywhelans.com
SUMMARY:Football – La Liga: Atletico Madrid VS Espanyol
DESCRIPTION:
URL:https://www.paddywhelans.com/event/football-la-liga-atletico-madrid-vs-espanyol/
CATEGORIES:La Liga
END:VEVENT
BEGIN:VEVENT
DTSTART;TZID="UTC+3":20181222T182000
DTEND;TZID="UTC+3":20181222T182000
DTSTAMP:20260424T200544
CREATED:20181217T095549
LAST-MODIFIED:20181217T095549
UID:5870-1545502800-1545502800@www.paddywhelans.com
SUMMARY:Football – FIFA Club World Cup UAE 2018: Final
DESCRIPTION:
URL:https://www.paddywhelans.com/event/football-fifa-club-world-cup-uae-2018-final/
CATEGORIES:International Football
END:VEVENT
BEGIN:VEVENT
DTSTART;TZID="UTC+3":20181222T192000
DTEND;TZID="UTC+3":20181222T192000
DTSTAMP:20260424T200544
CREATED:20181217T095816
LAST-MODIFIED:20181217T095816
UID:5873-1545506400-1545506400@www.paddywhelans.com
SUMMARY:Football – English Premier League: Cardiff City VS Manchester United
DESCRIPTION:
URL:https://www.paddywhelans.com/event/football-english-premier-league-cardiff-city-vs-manchester-united/
CATEGORIES:English Premier Leaugue
END:VEVENT
BEGIN:VEVENT
DTSTART;TZID="UTC+3":20181222T192500
DTEND;TZID="UTC+3":20181222T192500
DTSTAMP:20260424T200544
CREATED:20181217T095942
LAST-MODIFIED:20181217T095942
UID:5875-1545506700-1545506700@www.paddywhelans.com
SUMMARY:Football – La Liga: Barcelona VS Celta Vigo
DESCRIPTION:
URL:https://www.paddywhelans.com/event/football-la-liga-barcelona-vs-celta-vigo/
CATEGORIES:La Liga
END:VEVENT
BEGIN:VEVENT
DTSTART;TZID="UTC+3":20181222T210000
DTEND;TZID="UTC+3":20181222T210000
DTSTAMP:20260424T200544
CREATED:20181217T100240
LAST-MODIFIED:20181217T100240
UID:5879-1545512400-1545512400@www.paddywhelans.com
SUMMARY:Boxing: Dillian Whyte vs Derek Chisora\, 12 Rnds Heavyweight
DESCRIPTION:
URL:https://www.paddywhelans.com/event/boxing-dillian-whyte-vs-derek-chisora-12-rnds-heavyweight/
CATEGORIES:Boxing / Fighting
END:VEVENT
BEGIN:VEVENT
DTSTART;TZID="UTC+3":20181222T210000
DTEND;TZID="UTC+3":20181222T210000
DTSTAMP:20260424T200544
CREATED:20181217T100329
LAST-MODIFIED:20181217T100329
UID:5880-1545512400-1545512400@www.paddywhelans.com
SUMMARY:Darts: William Hill World Championship\, Day 10 Evening
DESCRIPTION:
URL:https://www.paddywhelans.com/event/darts-william-hill-world-championship-day-10-evening/
CATEGORIES:Other Sports
END:VEVENT
BEGIN:VEVENT
DTSTART;TZID="UTC+3":20181222T212500
DTEND;TZID="UTC+3":20181222T212500
DTSTAMP:20260424T200544
CREATED:20181217T100128
LAST-MODIFIED:20181217T100128
UID:5877-1545513900-1545513900@www.paddywhelans.com
SUMMARY:Football – Serie A: Juventus VS Roma
DESCRIPTION:
URL:https://www.paddywhelans.com/event/football-serie-a-juventus-vs-roma/
CATEGORIES:Continental Europe Football
END:VEVENT
END:VCALENDAR