BEGIN:VCALENDAR
VERSION:2.0
PRODID:-//Paddy Whelan`s - ECPv4.0.5//NONSGML v1.0//EN
CALSCALE:GREGORIAN
METHOD:PUBLISH
X-WR-CALNAME:Paddy Whelan`s
X-ORIGINAL-URL:https://www.paddywhelans.com
X-WR-CALDESC:Events for Paddy Whelan`s
BEGIN:VEVENT
DTSTART;TZID="UTC+3":20181219T143000
DTEND;TZID="UTC+3":20181219T143000
DTSTAMP:20260425T011341
CREATED:20181217T094323
LAST-MODIFIED:20181217T094323
UID:5858-1545229800-1545229800@www.paddywhelans.com
SUMMARY:Darts: William Hill World Championship\, Day 7 Afternoon
DESCRIPTION:
URL:https://www.paddywhelans.com/event/darts-william-hill-world-championship-day-7-afternoon/
CATEGORIES:Other Sports
END:VEVENT
BEGIN:VEVENT
DTSTART;TZID="UTC+3":20181219T182000
DTEND;TZID="UTC+3":20181219T182000
DTSTAMP:20260425T011341
CREATED:20181217T094035
LAST-MODIFIED:20181217T094035
UID:5854-1545243600-1545243600@www.paddywhelans.com
SUMMARY:Football – FIFA Club World Cup UAE 2018: Semi-final\, Kashima Antlers VS Real Madrid CF
DESCRIPTION:
URL:https://www.paddywhelans.com/event/football-fifa-club-world-cup-uae-2018-semi-final-kashima-antlers-vs-real-madrid-cf/
CATEGORIES:International Football
END:VEVENT
BEGIN:VEVENT
DTSTART;TZID="UTC+3":20181219T190000
DTEND;TZID="UTC+3":20181219T190000
DTSTAMP:20260425T011341
CREATED:20181217T094112
LAST-MODIFIED:20181217T094112
UID:5855-1545246000-1545246000@www.paddywhelans.com
SUMMARY:Basketball – Turkish Airlines Euroleague: Darussafaka Tekfen Istanbul VS Kaunas Žalgiris
DESCRIPTION:
URL:https://www.paddywhelans.com/event/basketball-turkish-airlines-euroleague-darussafaka-tekfen-istanbul-vs-kaunas-zalgiris/
CATEGORIES:Basketball
END:VEVENT
BEGIN:VEVENT
DTSTART;TZID="UTC+3":20181219T213000
DTEND;TZID="UTC+3":20181219T213000
DTSTAMP:20260425T011341
CREATED:20181217T094149
LAST-MODIFIED:20181217T094149
UID:5856-1545255000-1545255000@www.paddywhelans.com
SUMMARY:Basketball – Turkish Airlines Euroleague: AX Armani Exchange Olimpia Milan VS FC Bayern Munich
DESCRIPTION:
URL:https://www.paddywhelans.com/event/basketball-turkish-airlines-euroleague-ax-armani-exchange-olimpia-milan-vs-fc-bayern-munich/
CATEGORIES:Basketball
END:VEVENT
BEGIN:VEVENT
DTSTART;TZID="UTC+3":20181219T214500
DTEND;TZID="UTC+3":20181219T214500
DTSTAMP:20260425T011341
CREATED:20181217T094242
LAST-MODIFIED:20181217T094242
UID:5857-1545255900-1545255900@www.paddywhelans.com
SUMMARY:Basketball – Turkish Airlines Euroleague: Real Madrid VS Panathinaikos Opap Athens
DESCRIPTION:
URL:https://www.paddywhelans.com/event/basketball-turkish-airlines-euroleague-real-madrid-vs-panathinaikos-opap-athens/
CATEGORIES:Basketball
END:VEVENT
END:VCALENDAR