BEGIN:VCALENDAR
VERSION:2.0
PRODID:-//Paddy Whelan`s - ECPv4.0.5//NONSGML v1.0//EN
CALSCALE:GREGORIAN
METHOD:PUBLISH
X-WR-CALNAME:Paddy Whelan`s
X-ORIGINAL-URL:https://www.paddywhelans.com
X-WR-CALDESC:Events for Paddy Whelan`s
BEGIN:VEVENT
DTSTART;TZID="UTC+3":20181213T183000
DTEND;TZID="UTC+3":20181213T183000
DTSTAMP:20260425T105344
CREATED:20181209T193721
LAST-MODIFIED:20181209T193721
UID:5819-1544725800-1544725800@www.paddywhelans.com
SUMMARY:Basketball – Turkish Airlines Euroleague: Olympiacos Piraeus VS Anadolu Efes Istanbul
DESCRIPTION:
URL:https://www.paddywhelans.com/event/basketball-turkish-airlines-euroleague-olympiacos-piraeus-vs-anadolu-efes-istanbul/
CATEGORIES:Basketball
END:VEVENT
BEGIN:VEVENT
DTSTART;TZID="UTC+3":20181213T194500
DTEND;TZID="UTC+3":20181213T194500
DTSTAMP:20260425T105344
CREATED:20181209T193647
LAST-MODIFIED:20181209T193647
UID:5818-1544730300-1544730300@www.paddywhelans.com
SUMMARY:Football – UEFA Europa League: Genk VS Sarpsborg
DESCRIPTION:
URL:https://www.paddywhelans.com/event/football-uefa-europa-league-genk-vs-sarpsborg/
CATEGORIES:UEFA Europa League
END:VEVENT
BEGIN:VEVENT
DTSTART;TZID="UTC+3":20181213T201500
DTEND;TZID="UTC+3":20181213T201500
DTSTAMP:20260425T105344
CREATED:20181209T193756
LAST-MODIFIED:20181209T193756
UID:5820-1544732100-1544732100@www.paddywhelans.com
SUMMARY:Basketball – Turkish Airlines Euroleague: Fenerbahce Istanbul VS Armani Milan
DESCRIPTION:
URL:https://www.paddywhelans.com/event/basketball-turkish-airlines-euroleague-fenerbahce-istanbul-vs-armani-milan/
CATEGORIES:Basketball
END:VEVENT
BEGIN:VEVENT
DTSTART;TZID="UTC+3":20181213T214500
DTEND;TZID="UTC+3":20181213T214500
DTSTAMP:20260425T105344
CREATED:20181209T193830
LAST-MODIFIED:20181209T193830
UID:5821-1544737500-1544737500@www.paddywhelans.com
SUMMARY:Basketball – Turkish Airlines Euroleague: Real Madrid VS FC Barcelona Lassa
DESCRIPTION:
URL:https://www.paddywhelans.com/event/basketball-turkish-airlines-euroleague-real-madrid-vs-fc-barcelona-lassa/
CATEGORIES:Basketball
END:VEVENT
BEGIN:VEVENT
DTSTART;TZID="UTC+3":20181213T223000
DTEND;TZID="UTC+3":20181213T223000
DTSTAMP:20260425T105344
CREATED:20181209T193914
LAST-MODIFIED:20181209T193914
UID:5822-1544740200-1544740200@www.paddywhelans.com
SUMMARY:Darts: William Hill World Championship\, Day 1 Evening
DESCRIPTION:
URL:https://www.paddywhelans.com/event/darts-william-hill-world-championship-day-1-evening/
CATEGORIES:Other Sports
END:VEVENT
END:VCALENDAR