BEGIN:VCALENDAR
VERSION:2.0
PRODID:-//Paddy Whelan`s - ECPv4.0.5//NONSGML v1.0//EN
CALSCALE:GREGORIAN
METHOD:PUBLISH
X-WR-CALNAME:Paddy Whelan`s
X-ORIGINAL-URL:https://www.paddywhelans.com
X-WR-CALDESC:Events for Paddy Whelan`s
BEGIN:VEVENT
DTSTART;TZID="UTC+3":20181211T165500
DTEND;TZID="UTC+3":20181211T165500
DTSTAMP:20260425T135223
CREATED:20181209T193335
LAST-MODIFIED:20181209T193335
UID:5813-1544547300-1544547300@www.paddywhelans.com
SUMMARY:Football – UEFA Youth League: Barcelona VS Tottenham Hotspur
DESCRIPTION:
URL:https://www.paddywhelans.com/event/football-uefa-youth-league-barcelona-vs-tottenham-hotspur/
END:VEVENT
BEGIN:VEVENT
DTSTART;TZID="UTC+3":20181211T194500
DTEND;TZID="UTC+3":20181211T194500
DTSTAMP:20260425T135223
CREATED:20181209T193142
LAST-MODIFIED:20181209T193142
UID:5810-1544557500-1544557500@www.paddywhelans.com
SUMMARY:Football – UEFA Champions League: Schalke 04 VS Lokomotiv Moskva
DESCRIPTION:
URL:https://www.paddywhelans.com/event/football-uefa-champions-league-schalke-04-vs-lokomotiv-moskva/
CATEGORIES:UEFA Champions League
END:VEVENT
BEGIN:VEVENT
DTSTART;TZID="UTC+3":20181211T215000
DTEND;TZID="UTC+3":20181211T215000
DTSTAMP:20260425T135223
CREATED:20181209T193217
LAST-MODIFIED:20181209T193217
UID:5811-1544565000-1544565000@www.paddywhelans.com
SUMMARY:Football – UEFA Champions League: Liverpool VS Napoli
DESCRIPTION:
URL:https://www.paddywhelans.com/event/football-uefa-champions-league-liverpool-vs-napoli/
CATEGORIES:UEFA Champions League
END:VEVENT
BEGIN:VEVENT
DTSTART;TZID="UTC+3":20181211T215000
DTEND;TZID="UTC+3":20181211T215000
DTSTAMP:20260425T135223
CREATED:20181209T193254
LAST-MODIFIED:20181209T193254
UID:5812-1544565000-1544565000@www.paddywhelans.com
SUMMARY:Football – UEFA Champions League: Barcelona VS Tottenham Hotspur
DESCRIPTION:
URL:https://www.paddywhelans.com/event/football-uefa-champions-league-barcelona-vs-tottenham-hotspur/
CATEGORIES:UEFA Champions League
END:VEVENT
END:VCALENDAR