BEGIN:VCALENDAR
VERSION:2.0
PRODID:-//Paddy Whelan`s - ECPv4.0.5//NONSGML v1.0//EN
CALSCALE:GREGORIAN
METHOD:PUBLISH
X-WR-CALNAME:Paddy Whelan`s
X-ORIGINAL-URL:https://www.paddywhelans.com
X-WR-CALDESC:Events for Paddy Whelan`s
BEGIN:VEVENT
DTSTART;TZID="UTC+3":20181209T105000
DTEND;TZID="UTC+3":20181209T105000
DTSTAMP:20260425T171707
CREATED:20181202T211126
LAST-MODIFIED:20181202T211126
UID:5803-1544352600-1544352600@www.paddywhelans.com
SUMMARY:Bobsleigh & Skeleton – BMW IBSF World Cup: Women´s Skeleton\, 2-man Bobsleigh
DESCRIPTION:
URL:https://www.paddywhelans.com/event/bobsleigh-skeleton-bmw-ibsf-world-cup-womens-skeleton-2-man-bobsleigh/
CATEGORIES:Other Sports
END:VEVENT
BEGIN:VEVENT
DTSTART;TZID="UTC+3":20181209T125500
DTEND;TZID="UTC+3":20181209T125500
DTSTAMP:20260425T171707
CREATED:20181202T210855
LAST-MODIFIED:20181202T210855
UID:5799-1544360100-1544360100@www.paddywhelans.com
SUMMARY:Football – La Liga: Eibar VS Levante
DESCRIPTION:
URL:https://www.paddywhelans.com/event/football-la-liga-eibar-vs-levante/
CATEGORIES:La Liga
END:VEVENT
BEGIN:VEVENT
DTSTART;TZID="UTC+3":20181209T162000
DTEND;TZID="UTC+3":20181209T162000
DTSTAMP:20260425T171707
CREATED:20181202T211047
LAST-MODIFIED:20181202T211047
UID:5802-1544372400-1544372400@www.paddywhelans.com
SUMMARY:Ice-hockey – KHL: Severstal Cherepovets VS Jokerit Helsinki
DESCRIPTION:
URL:https://www.paddywhelans.com/event/ice-hockey-khl-severstal-cherepovets-vs-jokerit-helsinki/
CATEGORIES:Ice Hockey
END:VEVENT
BEGIN:VEVENT
DTSTART;TZID="UTC+3":20181209T171000
DTEND;TZID="UTC+3":20181209T171000
DTSTAMP:20260425T171707
CREATED:20181202T210931
LAST-MODIFIED:20181202T210931
UID:5800-1544375400-1544375400@www.paddywhelans.com
SUMMARY:Football – La Liga: Huesca VS Real Madrid
DESCRIPTION:
URL:https://www.paddywhelans.com/event/football-la-liga-huesca-vs-real-madrid/
CATEGORIES:La Liga
END:VEVENT
BEGIN:VEVENT
DTSTART;TZID="UTC+3":20181209T175000
DTEND;TZID="UTC+3":20181209T175000
DTSTAMP:20260425T171707
CREATED:20181202T210818
LAST-MODIFIED:20181202T210818
UID:5798-1544377800-1544377800@www.paddywhelans.com
SUMMARY:Football – English Premier League: Newcastle United VS Wolverhampton Wanderers
DESCRIPTION:
URL:https://www.paddywhelans.com/event/football-english-premier-league-newcastle-united-vs-wolverhampton-wanderers/
CATEGORIES:English Premier Leaugue
END:VEVENT
BEGIN:VEVENT
DTSTART;TZID="UTC+3":20181209T212500
DTEND;TZID="UTC+3":20181209T212500
DTSTAMP:20260425T171707
CREATED:20181202T211009
LAST-MODIFIED:20181202T211009
UID:5801-1544390700-1544390700@www.paddywhelans.com
SUMMARY:Football – Serie A: AC Milan VS Torino
DESCRIPTION:
URL:https://www.paddywhelans.com/event/football-serie-a-ac-milan-vs-torino/
CATEGORIES:Continental Europe Football
END:VEVENT
END:VCALENDAR