BEGIN:VCALENDAR
VERSION:2.0
PRODID:-//Paddy Whelan`s - ECPv4.0.5//NONSGML v1.0//EN
CALSCALE:GREGORIAN
METHOD:PUBLISH
X-WR-CALNAME:Paddy Whelan`s
X-ORIGINAL-URL:https://www.paddywhelans.com
X-WR-CALDESC:Events for Paddy Whelan`s
BEGIN:VEVENT
DTSTART;TZID="UTC+3":20181208T110000
DTEND;TZID="UTC+3":20181208T110000
DTSTAMP:20260425T190152
CREATED:20181202T210629
LAST-MODIFIED:20181202T210629
UID:5795-1544266800-1544266800@www.paddywhelans.com
SUMMARY:Bobsleigh & Skeleton – BMW IBSF World Cup: Men´s Skeleton\, 2-man Bobsleigh
DESCRIPTION:
URL:https://www.paddywhelans.com/event/bobsleigh-skeleton-bmw-ibsf-world-cup-mens-skeleton-2-man-bobsleigh/
CATEGORIES:Other Sports
END:VEVENT
BEGIN:VEVENT
DTSTART;TZID="UTC+3":20181208T132000
DTEND;TZID="UTC+3":20181208T132000
DTSTAMP:20260425T190152
CREATED:20181202T210550
LAST-MODIFIED:20181202T210550
UID:5794-1544275200-1544275200@www.paddywhelans.com
SUMMARY:Ice-hockey – KHL: Metallurg Magnitogorsk VS Spartak Moscow
DESCRIPTION:
URL:https://www.paddywhelans.com/event/ice-hockey-khl-metallurg-magnitogorsk-vs-spartak-moscow/
CATEGORIES:Ice Hockey
END:VEVENT
BEGIN:VEVENT
DTSTART;TZID="UTC+3":20181208T135500
DTEND;TZID="UTC+3":20181208T135500
DTSTAMP:20260425T190152
CREATED:20181202T210326
LAST-MODIFIED:20181202T210326
UID:5790-1544277300-1544277300@www.paddywhelans.com
SUMMARY:Football – La Liga: Atletico Madrid v Alaves
DESCRIPTION:
URL:https://www.paddywhelans.com/event/football-la-liga-atletico-madrid-v-alaves/
CATEGORIES:La Liga
END:VEVENT
BEGIN:VEVENT
DTSTART;TZID="UTC+3":20181208T142000
DTEND;TZID="UTC+3":20181208T142000
DTSTAMP:20260425T190152
CREATED:20181202T210056
LAST-MODIFIED:20181202T210056
UID:5785-1544278800-1544278800@www.paddywhelans.com
SUMMARY:Football – English Premier League: A.F.C. Bournemouth VS Liverpool
DESCRIPTION:
URL:https://www.paddywhelans.com/event/football-english-premier-league-a-f-c-bournemouth-vs-liverpool/
CATEGORIES:English Premier Leaugue
END:VEVENT
BEGIN:VEVENT
DTSTART;TZID="UTC+3":20181208T165000
DTEND;TZID="UTC+3":20181208T165000
DTSTAMP:20260425T190152
CREATED:20181202T210130
LAST-MODIFIED:20181202T210130
UID:5787-1544287800-1544287800@www.paddywhelans.com
SUMMARY:Football – English Premier League: Arsenal VS Huddersfield Town
DESCRIPTION:
URL:https://www.paddywhelans.com/event/football-english-premier-league-arsenal-vs-huddersfield-town/
CATEGORIES:English Premier Leaugue
END:VEVENT
BEGIN:VEVENT
DTSTART;TZID="UTC+3":20181208T165500
DTEND;TZID="UTC+3":20181208T165500
DTSTAMP:20260425T190152
CREATED:20181202T210438
LAST-MODIFIED:20181202T210438
UID:5792-1544288100-1544288100@www.paddywhelans.com
SUMMARY:Football – Ligue 1: PSG VS Montpellier
DESCRIPTION:
URL:https://www.paddywhelans.com/event/football-ligue-1-psg-vs-montpellier/
CATEGORIES:Continental Europe Football
END:VEVENT
BEGIN:VEVENT
DTSTART;TZID="UTC+3":20181208T185500
DTEND;TZID="UTC+3":20181208T185500
DTSTAMP:20260425T190153
CREATED:20181202T210512
LAST-MODIFIED:20181202T210512
UID:5793-1544295300-1544295300@www.paddywhelans.com
SUMMARY:Football – Serie A: Cagliari VS Roma
DESCRIPTION:
URL:https://www.paddywhelans.com/event/football-serie-a-cagliari-vs-roma/
CATEGORIES:Continental Europe Football
END:VEVENT
BEGIN:VEVENT
DTSTART;TZID="UTC+3":20181208T192000
DTEND;TZID="UTC+3":20181208T192000
DTSTAMP:20260425T190153
CREATED:20181202T210207
LAST-MODIFIED:20181202T210207
UID:5788-1544296800-1544296800@www.paddywhelans.com
SUMMARY:Football – English Premier League: Chelsea VS Manchester City
DESCRIPTION:
URL:https://www.paddywhelans.com/event/football-english-premier-league-chelsea-vs-manchester-city/
CATEGORIES:English Premier Leaugue
END:VEVENT
BEGIN:VEVENT
DTSTART;TZID="UTC+3":20181208T210000
DTEND;TZID="UTC+3":20181208T210000
DTSTAMP:20260425T190153
CREATED:20181202T210704
LAST-MODIFIED:20181202T210704
UID:5796-1544302800-1544302800@www.paddywhelans.com
SUMMARY:Boxing: Hrgovic VS Perea\, WBC International Heavyweight Championship
DESCRIPTION:
URL:https://www.paddywhelans.com/event/boxing-hrgovic-vs-perea-wbc-international-heavyweight-championship/
CATEGORIES:Boxing / Fighting
END:VEVENT
BEGIN:VEVENT
DTSTART;TZID="UTC+3":20181208T213500
DTEND;TZID="UTC+3":20181208T213500
DTSTAMP:20260425T190153
CREATED:20181202T210244
LAST-MODIFIED:20181202T210244
UID:5789-1544304900-1544304900@www.paddywhelans.com
SUMMARY:Football – English Premier League: Leicester City VS Tottenham Hotspur
DESCRIPTION:
URL:https://www.paddywhelans.com/event/football-english-premier-league-leicester-city-vs-tottenham-hotspur/
CATEGORIES:English Premier Leaugue
END:VEVENT
BEGIN:VEVENT
DTSTART;TZID="UTC+3":20181208T214000
DTEND;TZID="UTC+3":20181208T214000
DTSTAMP:20260425T190153
CREATED:20181202T210406
LAST-MODIFIED:20181202T210406
UID:5791-1544305200-1544305200@www.paddywhelans.com
SUMMARY:Football – La Liga: Espanyol VS Barcelona
DESCRIPTION:
URL:https://www.paddywhelans.com/event/football-la-liga-espanyol-vs-barcelona/
CATEGORIES:La Liga
END:VEVENT
BEGIN:VEVENT
DTSTART;TZID="UTC+3":20181208T233000
DTEND;TZID="UTC+3":20181208T233000
DTSTAMP:20260425T190153
CREATED:20181202T210744
LAST-MODIFIED:20181202T210744
UID:5797-1544311800-1544311800@www.paddywhelans.com
SUMMARY:Boxing: Brook VS Zerafa\, WBA World Super-Welterweight title
DESCRIPTION:
URL:https://www.paddywhelans.com/event/boxing-brook-vs-zerafa-wba-world-super-welterweight-title/
CATEGORIES:Boxing / Fighting
END:VEVENT
END:VCALENDAR