BEGIN:VCALENDAR
VERSION:2.0
PRODID:-//Paddy Whelan`s - ECPv4.0.5//NONSGML v1.0//EN
CALSCALE:GREGORIAN
METHOD:PUBLISH
X-WR-CALNAME:Paddy Whelan`s
X-ORIGINAL-URL:https://www.paddywhelans.com
X-WR-CALDESC:Events for Paddy Whelan`s
BEGIN:VEVENT
DTSTART;TZID="UTC+3":20181204T215000
DTEND;TZID="UTC+3":20181204T215000
DTSTAMP:20260426T015657
CREATED:20181202T205248
LAST-MODIFIED:20181202T205248
UID:5772-1543960200-1543960200@www.paddywhelans.com
SUMMARY:Football – English Premier League: Watford VS Manchester City
DESCRIPTION:
URL:https://www.paddywhelans.com/event/football-english-premier-league-watford-vs-manchester-city/
CATEGORIES:English Premier Leaugue
END:VEVENT
BEGIN:VEVENT
DTSTART;TZID="UTC+3":20181204T215500
DTEND;TZID="UTC+3":20181204T215500
DTSTAMP:20260426T015657
CREATED:20181202T205330
LAST-MODIFIED:20181202T205339
UID:5773-1543960500-1543960500@www.paddywhelans.com
SUMMARY:Football – Ligue 1: Montpellier VS Lille
DESCRIPTION:
URL:https://www.paddywhelans.com/event/football-ligue-1-montpellier-vs-lillesetanta/
CATEGORIES:Continental Europe Football
END:VEVENT
END:VCALENDAR