BEGIN:VCALENDAR
VERSION:2.0
PRODID:-//Paddy Whelan`s - ECPv4.0.5//NONSGML v1.0//EN
CALSCALE:GREGORIAN
METHOD:PUBLISH
X-WR-CALNAME:Paddy Whelan`s
X-ORIGINAL-URL:https://www.paddywhelans.com
X-WR-CALDESC:Events for Paddy Whelan`s
BEGIN:VEVENT
DTSTART;TZID="UTC+3":20181203T185000
DTEND;TZID="UTC+3":20181203T185000
DTSTAMP:20260426T034850
CREATED:20181202T205208
LAST-MODIFIED:20181202T205208
UID:5771-1543863000-1543863000@www.paddywhelans.com
SUMMARY:Ice-hockey – KHL: Spartak Moscow VS Dinamo Riga
DESCRIPTION:
URL:https://www.paddywhelans.com/event/ice-hockey-khl-spartak-moscow-vs-dinamo-riga-2/
CATEGORIES:Ice Hockey
END:VEVENT
BEGIN:VEVENT
DTSTART;TZID="UTC+3":20181203T205000
DTEND;TZID="UTC+3":20181203T205000
DTSTAMP:20260426T034850
CREATED:20181202T205134
LAST-MODIFIED:20181202T205134
UID:5770-1543870200-1543870200@www.paddywhelans.com
SUMMARY:Basketball – FIBA Basketball World Cup: Germany VS Estonia
DESCRIPTION:
URL:https://www.paddywhelans.com/event/basketball-fiba-basketball-world-cup-germany-vs-estonia/
CATEGORIES:Basketball
END:VEVENT
BEGIN:VEVENT
DTSTART;TZID="UTC+3":20181203T215500
DTEND;TZID="UTC+3":20181203T215500
DTSTAMP:20260426T034850
CREATED:20181202T205044
LAST-MODIFIED:20181202T205058
UID:5769-1543874100-1543874100@www.paddywhelans.com
SUMMARY:Football – La Liga: Levante VS Athletic Club
DESCRIPTION:
URL:https://www.paddywhelans.com/event/football-la-liga-2155levante-vs-athletic-clubsetanta/
CATEGORIES:La Liga
END:VEVENT
END:VCALENDAR