BEGIN:VCALENDAR
VERSION:2.0
PRODID:-//Paddy Whelan`s - ECPv4.0.5//NONSGML v1.0//EN
CALSCALE:GREGORIAN
METHOD:PUBLISH
X-WR-CALNAME:Paddy Whelan`s
X-ORIGINAL-URL:https://www.paddywhelans.com
X-WR-CALDESC:Events for Paddy Whelan`s
BEGIN:VEVENT
DTSTART;TZID="UTC+3":20180715T114500
DTEND;TZID="UTC+3":20180715T170000
DTSTAMP:20260425T144547
CREATED:20180708T074938
LAST-MODIFIED:20180708T074938
UID:5305-1531655100-1531674000@www.paddywhelans.com
SUMMARY:Moto GP
DESCRIPTION:
URL:https://www.paddywhelans.com/event/moto-gp-2/
CATEGORIES:Motor Sports/F1
END:VEVENT
BEGIN:VEVENT
DTSTART;TZID="UTC+3":20180715T174500
DTEND;TZID="UTC+3":20180715T174500
DTSTAMP:20260425T144547
CREATED:20180708T074849
LAST-MODIFIED:20180712T075804
UID:5304-1531676700-1531676700@www.paddywhelans.com
SUMMARY:Football – 2018 FIFA World Cup Russia\, FRANCE vs CROATIA\, Final
DESCRIPTION:
URL:https://www.paddywhelans.com/event/football-2018-fifa-world-cup-russiafinal/
END:VEVENT
END:VCALENDAR