BEGIN:VCALENDAR
VERSION:2.0
PRODID:-//Paddy Whelan`s - ECPv4.0.5//NONSGML v1.0//EN
CALSCALE:GREGORIAN
METHOD:PUBLISH
X-WR-CALNAME:Paddy Whelan`s
X-ORIGINAL-URL:https://www.paddywhelans.com
X-WR-CALDESC:Events for Paddy Whelan`s
BEGIN:VEVENT
DTSTART;TZID="UTC+3":20180629T212000
DTEND;TZID="UTC+3":20180629T212000
DTSTAMP:20260420T123330
CREATED:20180622T084735
LAST-MODIFIED:20180622T084735
UID:5280-1530307200-1530307200@www.paddywhelans.com
SUMMARY:FIBA World Cup European Qualifiers: Great Britain VS Estonia
DESCRIPTION:
URL:https://www.paddywhelans.com/event/fiba-world-cup-european-qualifiers-great-britain-vs-estonia/
CATEGORIES:Basketball
END:VEVENT
END:VCALENDAR