BEGIN:VCALENDAR
VERSION:2.0
PRODID:-//Paddy Whelan`s - ECPv4.0.5//NONSGML v1.0//EN
CALSCALE:GREGORIAN
METHOD:PUBLISH
X-WR-CALNAME:Paddy Whelan`s
X-ORIGINAL-URL:https://www.paddywhelans.com
X-WR-CALDESC:Events for Paddy Whelan`s
BEGIN:VEVENT
DTSTART;TZID="UTC+3":20220905T200000
DTEND;TZID="UTC+3":20220905T230000
DTSTAMP:20260425T032357
CREATED:20220903T155108
LAST-MODIFIED:20220903T155108
UID:17603-1662408000-1662418800@www.paddywhelans.com
SUMMARY:Yankees – Twins
DESCRIPTION:
URL:https://www.paddywhelans.com/event/yankees-twins/
CATEGORIES:American Sports
END:VEVENT
END:VCALENDAR