BEGIN:VCALENDAR
VERSION:2.0
PRODID:-//Paddy Whelan`s - ECPv4.0.5//NONSGML v1.0//EN
CALSCALE:GREGORIAN
METHOD:PUBLISH
X-WR-CALNAME:Paddy Whelan`s
X-ORIGINAL-URL:https://www.paddywhelans.com
X-WR-CALDESC:Events for Paddy Whelan`s
BEGIN:VEVENT
DTSTART;TZID="UTC+3":20220910T200000
DTEND;TZID="UTC+3":20220910T230000
DTSTAMP:20260425T030747
CREATED:20220903T180322
LAST-MODIFIED:20220903T180322
UID:17708-1662840000-1662850800@www.paddywhelans.com
SUMMARY:Yankees – Rays
DESCRIPTION:
URL:https://www.paddywhelans.com/event/yankees-rays/
CATEGORIES:American Sports
END:VEVENT
END:VCALENDAR