BEGIN:VCALENDAR
VERSION:2.0
PRODID:-//Paddy Whelan`s - ECPv4.0.5//NONSGML v1.0//EN
CALSCALE:GREGORIAN
METHOD:PUBLISH
X-WR-CALNAME:Paddy Whelan`s
X-ORIGINAL-URL:https://www.paddywhelans.com
X-WR-CALDESC:Events for Paddy Whelan`s
BEGIN:VEVENT
DTSTART;TZID="UTC+3":20220918T170000
DTEND;TZID="UTC+3":20220918T190000
DTSTAMP:20260425T143549
CREATED:20220911T193643
LAST-MODIFIED:20220911T193643
UID:17849-1663520400-1663527600@www.paddywhelans.com
SUMMARY:Worcester Warriors – Exeter Chiefs
DESCRIPTION:
URL:https://www.paddywhelans.com/event/worcester-warriors-exeter-chiefs/
CATEGORIES:Rugby Union
END:VEVENT
END:VCALENDAR