BEGIN:VCALENDAR
VERSION:2.0
PRODID:-//Paddy Whelan`s - ECPv4.0.5//NONSGML v1.0//EN
CALSCALE:GREGORIAN
METHOD:PUBLISH
X-WR-CALNAME:Paddy Whelan`s
X-ORIGINAL-URL:https://www.paddywhelans.com
X-WR-CALDESC:Events for Paddy Whelan`s
BEGIN:VEVENT
DTSTART;TZID="UTC+3":20220909T213000
DTEND;TZID="UTC+3":20220909T230000
DTSTAMP:20260424T053223
CREATED:20220903T174001
LAST-MODIFIED:20220903T174001
UID:17702-1662759000-1662764400@www.paddywhelans.com
SUMMARY:Werder – Augsburg
DESCRIPTION:
URL:https://www.paddywhelans.com/event/werder-augsburg/
CATEGORIES:Continental Europe Football
END:VEVENT
END:VCALENDAR