BEGIN:VCALENDAR
VERSION:2.0
PRODID:-//Paddy Whelan`s - ECPv4.0.5//NONSGML v1.0//EN
CALSCALE:GREGORIAN
METHOD:PUBLISH
X-WR-CALNAME:Paddy Whelan`s
X-ORIGINAL-URL:https://www.paddywhelans.com
X-WR-CALDESC:Events for Paddy Whelan`s
BEGIN:VEVENT
DTSTART;TZID="UTC+3":20220827T140000
DTEND;TZID="UTC+3":20220827T160000
DTSTAMP:20260425T190548
CREATED:20220820T150118
LAST-MODIFIED:20220820T150118
UID:17467-1661608800-1661616000@www.paddywhelans.com
SUMMARY:Valmiera – Super Nova
DESCRIPTION:
URL:https://www.paddywhelans.com/event/valmiera-super-nova/
CATEGORIES:Continental Europe Football
END:VEVENT
END:VCALENDAR