BEGIN:VCALENDAR
VERSION:2.0
PRODID:-//Paddy Whelan`s - ECPv4.0.5//NONSGML v1.0//EN
CALSCALE:GREGORIAN
METHOD:PUBLISH
X-WR-CALNAME:Paddy Whelan`s
X-ORIGINAL-URL:https://www.paddywhelans.com
X-WR-CALDESC:Events for Paddy Whelan`s
BEGIN:VEVENT
DTSTART;TZID="UTC+3":20220905T180000
DTEND;TZID="UTC+3":20220905T200000
DTSTAMP:20260425T031319
CREATED:20220903T160946
LAST-MODIFIED:20220903T160946
UID:17610-1662400800-1662408000@www.paddywhelans.com
SUMMARY:United Kingdom – Greece
DESCRIPTION:
URL:https://www.paddywhelans.com/event/united-kingdom-greece/
CATEGORIES:Basketball
END:VEVENT
END:VCALENDAR