BEGIN:VCALENDAR
VERSION:2.0
PRODID:-//Paddy Whelan`s - ECPv4.0.5//NONSGML v1.0//EN
CALSCALE:GREGORIAN
METHOD:PUBLISH
X-WR-CALNAME:Paddy Whelan`s
X-ORIGINAL-URL:https://www.paddywhelans.com
X-WR-CALDESC:Events for Paddy Whelan`s
BEGIN:VEVENT
DTSTART;TZID="UTC+3":20220908T194000
DTEND;TZID="UTC+3":20220908T210000
DTSTAMP:20260422T223313
CREATED:20220903T171730
LAST-MODIFIED:20220903T171730
UID:17658-1662666000-1662670800@www.paddywhelans.com
SUMMARY:Union Berlin – Union Saint-Gilloise
DESCRIPTION:
URL:https://www.paddywhelans.com/event/union-berlin-union-saint-gilloise/
CATEGORIES:UEFA Europa League
END:VEVENT
END:VCALENDAR