BEGIN:VCALENDAR
VERSION:2.0
PRODID:-//Paddy Whelan`s - ECPv4.0.5//NONSGML v1.0//EN
CALSCALE:GREGORIAN
METHOD:PUBLISH
X-WR-CALNAME:Paddy Whelan`s
X-ORIGINAL-URL:https://www.paddywhelans.com
X-WR-CALDESC:Events for Paddy Whelan`s
BEGIN:VEVENT
DTSTART;TZID="UTC+3":20220902T151500
DTEND;TZID="UTC+3":20220902T170000
DTSTAMP:20260425T190836
CREATED:20220827T163915
LAST-MODIFIED:20220827T163915
UID:17533-1662131700-1662138000@www.paddywhelans.com
SUMMARY:Ukraine – United Kingdom
DESCRIPTION:
URL:https://www.paddywhelans.com/event/ukraine-united-kingdom/
CATEGORIES:Basketball
END:VEVENT
END:VCALENDAR