BEGIN:VCALENDAR
VERSION:2.0
PRODID:-//Paddy Whelan`s - ECPv4.0.5//NONSGML v1.0//EN
CALSCALE:GREGORIAN
METHOD:PUBLISH
X-WR-CALNAME:Paddy Whelan`s
X-ORIGINAL-URL:https://www.paddywhelans.com
X-WR-CALDESC:Events for Paddy Whelan`s
BEGIN:VEVENT
DTSTART;TZID="UTC+3":20220831T200000
DTEND;TZID="UTC+3":20220831T220000
DTSTAMP:20260425T115804
CREATED:20220827T153812
LAST-MODIFIED:20220827T153812
UID:17506-1661976000-1661983200@www.paddywhelans.com
SUMMARY:Strasburg – Nant
DESCRIPTION:
URL:https://www.paddywhelans.com/event/strasburg-nant/
CATEGORIES:Continental Europe Football
END:VEVENT
END:VCALENDAR