BEGIN:VCALENDAR
VERSION:2.0
PRODID:-//Paddy Whelan`s - ECPv4.0.5//NONSGML v1.0//EN
CALSCALE:GREGORIAN
METHOD:PUBLISH
X-WR-CALNAME:Paddy Whelan`s
X-ORIGINAL-URL:https://www.paddywhelans.com
X-WR-CALDESC:Events for Paddy Whelan`s
BEGIN:VEVENT
DTSTART;TZID="UTC+3":20220917T160000
DTEND;TZID="UTC+3":20220917T180000
DTSTAMP:20260425T012200
CREATED:20220911T193543
LAST-MODIFIED:20220911T193543
UID:17847-1663430400-1663437600@www.paddywhelans.com
SUMMARY:Spartaks Jūrmala – Valmiera
DESCRIPTION:
URL:https://www.paddywhelans.com/event/spartaks-jurmala-valmiera/
CATEGORIES:Continental Europe Football
END:VEVENT
END:VCALENDAR