BEGIN:VCALENDAR
VERSION:2.0
PRODID:-//Paddy Whelan`s - ECPv4.0.5//NONSGML v1.0//EN
CALSCALE:GREGORIAN
METHOD:PUBLISH
X-WR-CALNAME:Paddy Whelan`s
X-ORIGINAL-URL:https://www.paddywhelans.com
X-WR-CALDESC:Events for Paddy Whelan`s
BEGIN:VEVENT
DTSTART;TZID="UTC+3":20220830T214500
DTEND;TZID="UTC+3":20220830T230000
DTSTAMP:20260425T144216
CREATED:20220827T151805
LAST-MODIFIED:20220827T151805
UID:17493-1661895900-1661900400@www.paddywhelans.com
SUMMARY:Southampton – Chelsea
DESCRIPTION:
URL:https://www.paddywhelans.com/event/southampton-chelsea/
CATEGORIES:English Premier Leaugue
END:VEVENT
END:VCALENDAR