BEGIN:VCALENDAR
VERSION:2.0
PRODID:-//Paddy Whelan`s - ECPv4.0.5//NONSGML v1.0//EN
CALSCALE:GREGORIAN
METHOD:PUBLISH
X-WR-CALNAME:Paddy Whelan`s
X-ORIGINAL-URL:https://www.paddywhelans.com
X-WR-CALDESC:Events for Paddy Whelan`s
BEGIN:VEVENT
DTSTART;TZID="UTC+3":20220915T220000
DTEND;TZID="UTC+3":20220915T230000
DTSTAMP:20260423T144221
CREATED:20220909T155532
LAST-MODIFIED:20220909T155532
UID:17809-1663279200-1663282800@www.paddywhelans.com
SUMMARY:Silkeborg – West Ham
DESCRIPTION:
URL:https://www.paddywhelans.com/event/silkeborg-west-ham/
CATEGORIES:Continental Europe Football
END:VEVENT
END:VCALENDAR