BEGIN:VCALENDAR
VERSION:2.0
PRODID:-//Paddy Whelan`s - ECPv4.0.5//NONSGML v1.0//EN
CALSCALE:GREGORIAN
METHOD:PUBLISH
X-WR-CALNAME:Paddy Whelan`s
X-ORIGINAL-URL:https://www.paddywhelans.com
X-WR-CALDESC:Events for Paddy Whelan`s
BEGIN:VEVENT
DTSTART;TZID="UTC+3":20220915T194000
DTEND;TZID="UTC+3":20220915T220000
DTSTAMP:20260423T094318
CREATED:20220909T154146
LAST-MODIFIED:20220909T154146
UID:17789-1663270800-1663279200@www.paddywhelans.com
SUMMARY:Sheriff – Manchester United
DESCRIPTION:
URL:https://www.paddywhelans.com/event/sheriff-manchester-united/
CATEGORIES:UEFA Europa League
END:VEVENT
END:VCALENDAR